BEGIN:VCALENDAR
VERSION:2.0
PRODID:-//First Baptist Church, Hulett Wyoming - ECPv6.15.20//NONSGML v1.0//EN
CALSCALE:GREGORIAN
METHOD:PUBLISH
X-WR-CALNAME:First Baptist Church, Hulett Wyoming
X-ORIGINAL-URL:https://firstbaptistchurchhulettwy.com
X-WR-CALDESC:Events for First Baptist Church, Hulett Wyoming
REFRESH-INTERVAL;VALUE=DURATION:PT1H
X-Robots-Tag:noindex
X-PUBLISHED-TTL:PT1H
BEGIN:VTIMEZONE
TZID:UTC
BEGIN:STANDARD
TZOFFSETFROM:+0000
TZOFFSETTO:+0000
TZNAME:UTC
DTSTART:20240101T000000
END:STANDARD
END:VTIMEZONE
BEGIN:VEVENT
DTSTART;TZID=UTC:20260121T140000
DTEND;TZID=UTC:20260121T150000
DTSTAMP:20260426T024956
CREATED:20260103T030849Z
LAST-MODIFIED:20260103T030849Z
UID:3315-1769004000-1769007600@firstbaptistchurchhulettwy.com
SUMMARY:Women's Bible Study
DESCRIPTION:Uncovering God’s Word
URL:https://firstbaptistchurchhulettwy.com/event/womens-bible-study-22/
END:VEVENT
BEGIN:VEVENT
DTSTART;TZID=UTC:20260120T190000
DTEND;TZID=UTC:20260120T200000
DTSTAMP:20260426T024956
CREATED:20260103T030606Z
LAST-MODIFIED:20260103T030606Z
UID:3313-1768935600-1768939200@firstbaptistchurchhulettwy.com
SUMMARY:Men's Bible Study
DESCRIPTION:The Life of David
URL:https://firstbaptistchurchhulettwy.com/event/mens-bible-study-43/
END:VEVENT
BEGIN:VEVENT
DTSTART;TZID=UTC:20260118T080000
DTEND;TZID=UTC:20260118T170000
DTSTAMP:20260426T024956
CREATED:20260111T162153Z
LAST-MODIFIED:20260111T162153Z
UID:3348-1768723200-1768755600@firstbaptistchurchhulettwy.com
SUMMARY:Deacons Meeting
DESCRIPTION:
URL:https://firstbaptistchurchhulettwy.com/event/deacons-meeting-8/
END:VEVENT
BEGIN:VEVENT
DTSTART;TZID=UTC:20260115T150000
DTEND;TZID=UTC:20260115T180000
DTSTAMP:20260426T024956
CREATED:20260103T025925Z
LAST-MODIFIED:20260103T025925Z
UID:3311-1768489200-1768500000@firstbaptistchurchhulettwy.com
SUMMARY:Hulett Food Bank
DESCRIPTION:
URL:https://firstbaptistchurchhulettwy.com/event/hulett-food-bank-3/
END:VEVENT
BEGIN:VEVENT
DTSTART;TZID=UTC:20260114T180000
DTEND;TZID=UTC:20260114T190000
DTSTAMP:20260426T024956
CREATED:20260103T025808Z
LAST-MODIFIED:20260103T025808Z
UID:3309-1768413600-1768417200@firstbaptistchurchhulettwy.com
SUMMARY:Faithful Friends
DESCRIPTION:
URL:https://firstbaptistchurchhulettwy.com/event/faithful-friends-31/
END:VEVENT
BEGIN:VEVENT
DTSTART;TZID=UTC:20260114T160000
DTEND;TZID=UTC:20260114T183000
DTSTAMP:20260426T024956
CREATED:20260103T025605Z
LAST-MODIFIED:20260103T025605Z
UID:3307-1768406400-1768415400@firstbaptistchurchhulettwy.com
SUMMARY:CBRangers
DESCRIPTION:3 years through 5th grade.
URL:https://firstbaptistchurchhulettwy.com/event/cbrangers-37/
END:VEVENT
BEGIN:VEVENT
DTSTART;TZID=UTC:20260114T140000
DTEND;TZID=UTC:20260114T150000
DTSTAMP:20260426T024956
CREATED:20260103T025449Z
LAST-MODIFIED:20260103T025449Z
UID:3305-1768399200-1768402800@firstbaptistchurchhulettwy.com
SUMMARY:Women's Bible Study
DESCRIPTION:Uncovering God’s Word
URL:https://firstbaptistchurchhulettwy.com/event/womens-bible-study-21/
END:VEVENT
BEGIN:VEVENT
DTSTART;TZID=UTC:20260113T190000
DTEND;TZID=UTC:20260113T200000
DTSTAMP:20260426T024956
CREATED:20260111T162330Z
LAST-MODIFIED:20260111T162330Z
UID:3352-1768330800-1768334400@firstbaptistchurchhulettwy.com
SUMMARY:Mens Bible Study
DESCRIPTION:
URL:https://firstbaptistchurchhulettwy.com/event/mens-bible-study-44/
END:VEVENT
BEGIN:VEVENT
DTSTART;TZID=UTC:20260113T190000
DTEND;TZID=UTC:20260113T200000
DTSTAMP:20260426T024956
CREATED:20260103T025323Z
LAST-MODIFIED:20260103T025323Z
UID:3303-1768330800-1768334400@firstbaptistchurchhulettwy.com
SUMMARY:Men's Bible Study
DESCRIPTION:The Life of David.
URL:https://firstbaptistchurchhulettwy.com/event/mens-bible-study-42/
END:VEVENT
BEGIN:VEVENT
DTSTART;TZID=UTC:20260111T120000
DTEND;TZID=UTC:20260111T140000
DTSTAMP:20260426T024956
CREATED:20260111T162417Z
LAST-MODIFIED:20260111T162417Z
UID:3354-1768132800-1768140000@firstbaptistchurchhulettwy.com
SUMMARY:The art of Marriage
DESCRIPTION:
URL:https://firstbaptistchurchhulettwy.com/event/the-art-of-marriage-4/
END:VEVENT
BEGIN:VEVENT
DTSTART;TZID=UTC:20260108T150000
DTEND;TZID=UTC:20260108T180000
DTSTAMP:20260426T024956
CREATED:20260103T025139Z
LAST-MODIFIED:20260103T025139Z
UID:3301-1767884400-1767895200@firstbaptistchurchhulettwy.com
SUMMARY:Hulett Food Bank
DESCRIPTION:Food Pick up from 3:00 to 6:00pm.
URL:https://firstbaptistchurchhulettwy.com/event/hulett-food-bank-2/
END:VEVENT
BEGIN:VEVENT
DTSTART;TZID=UTC:20260107T180000
DTEND;TZID=UTC:20260107T190000
DTSTAMP:20260426T024956
CREATED:20260103T024949Z
LAST-MODIFIED:20260103T024949Z
UID:3299-1767808800-1767812400@firstbaptistchurchhulettwy.com
SUMMARY:Faithful Friends
DESCRIPTION:Teens 6th through 12th.
URL:https://firstbaptistchurchhulettwy.com/event/faithful-friends-30/
END:VEVENT
BEGIN:VEVENT
DTSTART;TZID=UTC:20260107T160000
DTEND;TZID=UTC:20260107T173000
DTSTAMP:20260426T024956
CREATED:20260103T024832Z
LAST-MODIFIED:20260103T024832Z
UID:3296-1767801600-1767807000@firstbaptistchurchhulettwy.com
SUMMARY:CBRangers
DESCRIPTION:A AMAZING time.
URL:https://firstbaptistchurchhulettwy.com/event/cbrangers-36/
END:VEVENT
BEGIN:VEVENT
DTSTART;TZID=UTC:20260107T140000
DTEND;TZID=UTC:20260107T150000
DTSTAMP:20260426T024956
CREATED:20260103T024659Z
LAST-MODIFIED:20260103T024659Z
UID:3294-1767794400-1767798000@firstbaptistchurchhulettwy.com
SUMMARY:Women's Bible Study
DESCRIPTION:Uncovering God’s Word
URL:https://firstbaptistchurchhulettwy.com/event/womens-bible-study-20/
END:VEVENT
BEGIN:VEVENT
DTSTART;TZID=UTC:20260106T190000
DTEND;TZID=UTC:20260106T200000
DTSTAMP:20260426T024956
CREATED:20260103T024504Z
LAST-MODIFIED:20260103T024504Z
UID:3292-1767726000-1767729600@firstbaptistchurchhulettwy.com
SUMMARY:Men's Bible Study
DESCRIPTION:The Life of David.
URL:https://firstbaptistchurchhulettwy.com/event/mens-bible-study-41/
END:VEVENT
BEGIN:VEVENT
DTSTART;TZID=UTC:20260104T120000
DTEND;TZID=UTC:20260104T133000
DTSTAMP:20260426T024956
CREATED:20260103T024341Z
LAST-MODIFIED:20260103T024341Z
UID:3290-1767528000-1767533400@firstbaptistchurchhulettwy.com
SUMMARY:Deacons Meeting
DESCRIPTION:Following the morning service.
URL:https://firstbaptistchurchhulettwy.com/event/deacons-meeting-7/
END:VEVENT
BEGIN:VEVENT
DTSTART;TZID=UTC:20260101T110000
DTEND;TZID=UTC:20260101T140000
DTSTAMP:20260426T024956
CREATED:20251226T034906Z
LAST-MODIFIED:20251226T034906Z
UID:3262-1767265200-1767276000@firstbaptistchurchhulettwy.com
SUMMARY:New Year's Day Fellowship
DESCRIPTION:
URL:https://firstbaptistchurchhulettwy.com/event/new-years-day-fellowship/
END:VEVENT
BEGIN:VEVENT
DTSTART;TZID=UTC:20251224T180000
DTEND;TZID=UTC:20251224T190000
DTSTAMP:20260426T024956
CREATED:20251129T225621Z
LAST-MODIFIED:20251129T225621Z
UID:3214-1766599200-1766602800@firstbaptistchurchhulettwy.com
SUMMARY:Christmas Eve Service
DESCRIPTION:
URL:https://firstbaptistchurchhulettwy.com/event/christmas-eve-service-2/
END:VEVENT
BEGIN:VEVENT
DTSTART;TZID=UTC:20251221T140000
DTEND;TZID=UTC:20251221T160000
DTSTAMP:20260426T024956
CREATED:20251129T224502Z
LAST-MODIFIED:20251129T224502Z
UID:3207-1766325600-1766332800@firstbaptistchurchhulettwy.com
SUMMARY:Christmas Program
DESCRIPTION:
URL:https://firstbaptistchurchhulettwy.com/event/christmas-program/
END:VEVENT
BEGIN:VEVENT
DTSTART;TZID=UTC:20251218T150000
DTEND;TZID=UTC:20251218T180000
DTSTAMP:20260426T024956
CREATED:20251129T223835Z
LAST-MODIFIED:20251129T223835Z
UID:3204-1766070000-1766080800@firstbaptistchurchhulettwy.com
SUMMARY:Food Bank
DESCRIPTION:Pick up from 3:00 to 6:00pm. Parsonage garage
URL:https://firstbaptistchurchhulettwy.com/event/food-bank-15/
END:VEVENT
BEGIN:VEVENT
DTSTART;TZID=UTC:20251217T160000
DTEND;TZID=UTC:20251217T180000
DTSTAMP:20260426T024956
CREATED:20251129T223727Z
LAST-MODIFIED:20251129T223727Z
UID:3202-1765987200-1765994400@firstbaptistchurchhulettwy.com
SUMMARY:CBRangers & Faithful Friends
DESCRIPTION:Meet to assemble fruit baskets.
URL:https://firstbaptistchurchhulettwy.com/event/cbrangers-faithful-friends-3/
END:VEVENT
BEGIN:VEVENT
DTSTART;TZID=UTC:20251217T140000
DTEND;TZID=UTC:20251217T153000
DTSTAMP:20260426T024956
CREATED:20251129T223552Z
LAST-MODIFIED:20251129T223552Z
UID:3200-1765980000-1765985400@firstbaptistchurchhulettwy.com
SUMMARY:Ladies Bible Study
DESCRIPTION:
URL:https://firstbaptistchurchhulettwy.com/event/ladies-bible-study-22/
END:VEVENT
BEGIN:VEVENT
DTSTART;TZID=UTC:20251216T190000
DTEND;TZID=UTC:20251216T203000
DTSTAMP:20260426T024956
CREATED:20251129T223455Z
LAST-MODIFIED:20251129T223455Z
UID:3198-1765911600-1765917000@firstbaptistchurchhulettwy.com
SUMMARY:Men's Bible Study
DESCRIPTION:The Life of David
URL:https://firstbaptistchurchhulettwy.com/event/mens-bible-study-40/
END:VEVENT
BEGIN:VEVENT
DTSTART;TZID=UTC:20251214T123000
DTEND;TZID=UTC:20251214T140000
DTSTAMP:20260426T024956
CREATED:20251129T223244Z
LAST-MODIFIED:20251129T232458Z
UID:3196-1765715400-1765720800@firstbaptistchurchhulettwy.com
SUMMARY:Fellowship
DESCRIPTION:All church fellowship\, with guests Daniel and Hannah
URL:https://firstbaptistchurchhulettwy.com/event/the-art-of-marriage-3/
END:VEVENT
BEGIN:VEVENT
DTSTART;TZID=UTC:20251210T160000
DTEND;TZID=UTC:20251210T180000
DTSTAMP:20260426T024956
CREATED:20251129T223042Z
LAST-MODIFIED:20251129T223042Z
UID:3194-1765382400-1765389600@firstbaptistchurchhulettwy.com
SUMMARY:Cbrangers & Faithful Friends
DESCRIPTION:Meet together for program practice
URL:https://firstbaptistchurchhulettwy.com/event/cbrangers-faithful-friends-2/
END:VEVENT
BEGIN:VEVENT
DTSTART;TZID=UTC:20251210T140000
DTEND;TZID=UTC:20251210T153000
DTSTAMP:20260426T024956
CREATED:20251129T222908Z
LAST-MODIFIED:20251129T222908Z
UID:3192-1765375200-1765380600@firstbaptistchurchhulettwy.com
SUMMARY:Ladies Bible Study
DESCRIPTION:
URL:https://firstbaptistchurchhulettwy.com/event/ladies-bible-study-21/
END:VEVENT
BEGIN:VEVENT
DTSTART;TZID=UTC:20251209T190000
DTEND;TZID=UTC:20251209T200000
DTSTAMP:20260426T024956
CREATED:20251129T222746Z
LAST-MODIFIED:20251129T222746Z
UID:3190-1765306800-1765310400@firstbaptistchurchhulettwy.com
SUMMARY:Men's Bible Study
DESCRIPTION:The Life of David
URL:https://firstbaptistchurchhulettwy.com/event/mens-bible-study-39/
END:VEVENT
BEGIN:VEVENT
DTSTART;TZID=UTC:20251207T123000
DTEND;TZID=UTC:20251207T133000
DTSTAMP:20260426T024956
CREATED:20251129T222602Z
LAST-MODIFIED:20251129T222602Z
UID:3188-1765110600-1765114200@firstbaptistchurchhulettwy.com
SUMMARY:Deacon's Meeting
DESCRIPTION:Deacon’s Meeting – Following the morning service.
URL:https://firstbaptistchurchhulettwy.com/event/deacons-meeting-6/
END:VEVENT
BEGIN:VEVENT
DTSTART;TZID=UTC:20251204T150000
DTEND;TZID=UTC:20251204T180000
DTSTAMP:20260426T024956
CREATED:20251129T222440Z
LAST-MODIFIED:20251129T222440Z
UID:3186-1764860400-1764871200@firstbaptistchurchhulettwy.com
SUMMARY:Hulett Food Bank
DESCRIPTION:Pick up from 3:00 to 6:00pm. Parsonage garage.
URL:https://firstbaptistchurchhulettwy.com/event/hulett-food-bank/
END:VEVENT
BEGIN:VEVENT
DTSTART;TZID=UTC:20251203T160000
DTEND;TZID=UTC:20251203T180000
DTSTAMP:20260426T024956
CREATED:20251129T222303Z
LAST-MODIFIED:20251129T222303Z
UID:3184-1764777600-1764784800@firstbaptistchurchhulettwy.com
SUMMARY:Faithful Friends
DESCRIPTION:Meeting early for play practice
URL:https://firstbaptistchurchhulettwy.com/event/faithful-friends-29/
END:VEVENT
END:VCALENDAR