BEGIN:VCALENDAR
VERSION:2.0
PRODID:-//First Baptist Church, Hulett Wyoming - ECPv6.15.20//NONSGML v1.0//EN
CALSCALE:GREGORIAN
METHOD:PUBLISH
X-WR-CALNAME:First Baptist Church, Hulett Wyoming
X-ORIGINAL-URL:https://firstbaptistchurchhulettwy.com
X-WR-CALDESC:Events for First Baptist Church, Hulett Wyoming
REFRESH-INTERVAL;VALUE=DURATION:PT1H
X-Robots-Tag:noindex
X-PUBLISHED-TTL:PT1H
BEGIN:VTIMEZONE
TZID:UTC
BEGIN:STANDARD
TZOFFSETFROM:+0000
TZOFFSETTO:+0000
TZNAME:UTC
DTSTART:20240101T000000
END:STANDARD
END:VTIMEZONE
BEGIN:VEVENT
DTSTART;TZID=UTC:20251015T140000
DTEND;TZID=UTC:20251015T153000
DTSTAMP:20260426T041330
CREATED:20250928T001224Z
LAST-MODIFIED:20250928T001356Z
UID:2927-1760536800-1760542200@firstbaptistchurchhulettwy.com
SUMMARY:Ladies Bible Study
DESCRIPTION:Lyrics of Life with Lisa Harper
URL:https://firstbaptistchurchhulettwy.com/event/ladies-bible-study-15/
END:VEVENT
BEGIN:VEVENT
DTSTART;TZID=UTC:20251014T190000
DTEND;TZID=UTC:20251014T200000
DTSTAMP:20260426T041330
CREATED:20251014T215552Z
LAST-MODIFIED:20251014T215552Z
UID:3029-1760468400-1760472000@firstbaptistchurchhulettwy.com
SUMMARY:Men's Bible Study
DESCRIPTION:
URL:https://firstbaptistchurchhulettwy.com/event/mens-bible-study-33/
END:VEVENT
BEGIN:VEVENT
DTSTART;TZID=UTC:20251012T120000
DTEND;TZID=UTC:20251012T143000
DTSTAMP:20260426T041330
CREATED:20250928T001117Z
LAST-MODIFIED:20250928T001117Z
UID:2925-1760270400-1760279400@firstbaptistchurchhulettwy.com
SUMMARY:Tried & True Marriage Fellowship
DESCRIPTION:Following the Morning Service
URL:https://firstbaptistchurchhulettwy.com/event/tried-true-marriage-fellowship-5/
END:VEVENT
BEGIN:VEVENT
DTSTART;TZID=UTC:20251008T180000
DTEND;TZID=UTC:20251008T193000
DTSTAMP:20260426T041330
CREATED:20250928T000934Z
LAST-MODIFIED:20250928T000934Z
UID:2923-1759946400-1759951800@firstbaptistchurchhulettwy.com
SUMMARY:Faithful Friends
DESCRIPTION:
URL:https://firstbaptistchurchhulettwy.com/event/faithful-friends-25/
END:VEVENT
BEGIN:VEVENT
DTSTART;TZID=UTC:20251008T160000
DTEND;TZID=UTC:20251008T173000
DTSTAMP:20260426T041330
CREATED:20250928T000847Z
LAST-MODIFIED:20250928T000847Z
UID:2921-1759939200-1759944600@firstbaptistchurchhulettwy.com
SUMMARY:CBRangers
DESCRIPTION:
URL:https://firstbaptistchurchhulettwy.com/event/cbrangers-30/
END:VEVENT
BEGIN:VEVENT
DTSTART;TZID=UTC:20251008T140000
DTEND;TZID=UTC:20251008T153000
DTSTAMP:20260426T041330
CREATED:20250928T000757Z
LAST-MODIFIED:20250928T000757Z
UID:2919-1759932000-1759937400@firstbaptistchurchhulettwy.com
SUMMARY:Ladies Bible Study
DESCRIPTION:
URL:https://firstbaptistchurchhulettwy.com/event/ladies-bible-study-14/
END:VEVENT
BEGIN:VEVENT
DTSTART;TZID=UTC:20251007T190000
DTEND;TZID=UTC:20251007T203000
DTSTAMP:20260426T041330
CREATED:20250928T000644Z
LAST-MODIFIED:20250928T000644Z
UID:2917-1759863600-1759869000@firstbaptistchurchhulettwy.com
SUMMARY:Men's Bible Study
DESCRIPTION:The Life of David. 7:00pm
URL:https://firstbaptistchurchhulettwy.com/event/mens-bible-study-30/
END:VEVENT
BEGIN:VEVENT
DTSTART;TZID=UTC:20251005T120000
DTEND;TZID=UTC:20251005T140000
DTSTAMP:20260426T041330
CREATED:20250928T000426Z
LAST-MODIFIED:20250928T000426Z
UID:2913-1759665600-1759672800@firstbaptistchurchhulettwy.com
SUMMARY:Devils Tower Mission Society
DESCRIPTION:Following The Morning Service\, Fellowship and outreach to follow
URL:https://firstbaptistchurchhulettwy.com/event/devils-tower-mission-society-7/
END:VEVENT
BEGIN:VEVENT
DTSTART;TZID=UTC:20251005T120000
DTEND;TZID=UTC:20251005T123000
DTSTAMP:20260426T041330
CREATED:20250928T000534Z
LAST-MODIFIED:20250928T000534Z
UID:2915-1759665600-1759667400@firstbaptistchurchhulettwy.com
SUMMARY:Deacon's Meeting
DESCRIPTION:Following the morning service
URL:https://firstbaptistchurchhulettwy.com/event/deacons-meeting-4/
END:VEVENT
BEGIN:VEVENT
DTSTART;TZID=UTC:20251002T150000
DTEND;TZID=UTC:20251002T180000
DTSTAMP:20260426T041331
CREATED:20250927T234526Z
LAST-MODIFIED:20250927T234526Z
UID:2911-1759417200-1759428000@firstbaptistchurchhulettwy.com
SUMMARY:Food Bank
DESCRIPTION:Food Bank Pick -up 3:00 to 6:00pm. Call 467-5779
URL:https://firstbaptistchurchhulettwy.com/event/food-bank-11/
END:VEVENT
BEGIN:VEVENT
DTSTART;TZID=UTC:20251001T180000
DTEND;TZID=UTC:20251001T193000
DTSTAMP:20260426T041331
CREATED:20250927T234408Z
LAST-MODIFIED:20250927T234408Z
UID:2909-1759341600-1759347000@firstbaptistchurchhulettwy.com
SUMMARY:Faithful Friends
DESCRIPTION:6th grade through High School. 6:00 pm to 7:30
URL:https://firstbaptistchurchhulettwy.com/event/faithful-friends-24/
END:VEVENT
BEGIN:VEVENT
DTSTART;TZID=UTC:20251001T160000
DTEND;TZID=UTC:20251001T173000
DTSTAMP:20260426T041331
CREATED:20250927T234240Z
LAST-MODIFIED:20250927T234240Z
UID:2907-1759334400-1759339800@firstbaptistchurchhulettwy.com
SUMMARY:CBRangers
DESCRIPTION:Wednesday’s 4:00 to 5:30pm. Ages 3 years to 5th grade
URL:https://firstbaptistchurchhulettwy.com/event/cbrangers-29/
END:VEVENT
BEGIN:VEVENT
DTSTART;TZID=UTC:20251001T140000
DTEND;TZID=UTC:20251001T153000
DTSTAMP:20260426T041331
CREATED:20250927T234119Z
LAST-MODIFIED:20250927T234119Z
UID:2905-1759327200-1759332600@firstbaptistchurchhulettwy.com
SUMMARY:Ladies Bible Study
DESCRIPTION:Wednesday’s 2:00pm
URL:https://firstbaptistchurchhulettwy.com/event/ladies-bible-study-13/
END:VEVENT
BEGIN:VEVENT
DTSTART;TZID=UTC:20250924T180000
DTEND;TZID=UTC:20250924T193000
DTSTAMP:20260426T041331
CREATED:20250913T164738Z
LAST-MODIFIED:20250913T164738Z
UID:2722-1758736800-1758742200@firstbaptistchurchhulettwy.com
SUMMARY:Faithful Friends
DESCRIPTION:6th grade through High School
URL:https://firstbaptistchurchhulettwy.com/event/faithful-friends-23/
END:VEVENT
BEGIN:VEVENT
DTSTART;TZID=UTC:20250924T160000
DTEND;TZID=UTC:20250924T173000
DTSTAMP:20260426T041331
CREATED:20250913T164528Z
LAST-MODIFIED:20250913T164528Z
UID:2718-1758729600-1758735000@firstbaptistchurchhulettwy.com
SUMMARY:CBRangers
DESCRIPTION:3 years to 5th grade.
URL:https://firstbaptistchurchhulettwy.com/event/cbrangers-28/
END:VEVENT
BEGIN:VEVENT
DTSTART;TZID=UTC:20250924T140000
DTEND;TZID=UTC:20250924T150000
DTSTAMP:20260426T041331
CREATED:20250913T164628Z
LAST-MODIFIED:20250913T164628Z
UID:2720-1758722400-1758726000@firstbaptistchurchhulettwy.com
SUMMARY:Women's Bible Study
DESCRIPTION:
URL:https://firstbaptistchurchhulettwy.com/event/womens-bible-study-18/
END:VEVENT
BEGIN:VEVENT
DTSTART;TZID=UTC:20250924T140000
DTEND;TZID=UTC:20250924T150000
DTSTAMP:20260426T041331
CREATED:20250913T163009Z
LAST-MODIFIED:20250913T163009Z
UID:2708-1758722400-1758726000@firstbaptistchurchhulettwy.com
SUMMARY:Women's Bible Study
DESCRIPTION:
URL:https://firstbaptistchurchhulettwy.com/event/womens-bible-study-17/
END:VEVENT
BEGIN:VEVENT
DTSTART;TZID=UTC:20250923T190000
DTEND;TZID=UTC:20250923T203000
DTSTAMP:20260426T041331
CREATED:20250913T162523Z
LAST-MODIFIED:20250913T162523Z
UID:2702-1758654000-1758659400@firstbaptistchurchhulettwy.com
SUMMARY:The Life of David\, Men's Bible Study
DESCRIPTION:Tuesday 7:00pm.
URL:https://firstbaptistchurchhulettwy.com/event/the-life-of-david-mens-bible-study-2/
END:VEVENT
BEGIN:VEVENT
DTSTART;TZID=UTC:20250921T120000
DTEND;TZID=UTC:20250921T140000
DTSTAMP:20260426T041331
CREATED:20250913T161741Z
LAST-MODIFIED:20250913T161741Z
UID:2698-1758456000-1758463200@firstbaptistchurchhulettwy.com
SUMMARY:Tried and True Marriage Fellowship
DESCRIPTION:Tried & True Marriage Group. Fellowship Lunch and Group following the morning service.
URL:https://firstbaptistchurchhulettwy.com/event/tried-and-true-marriage-fellowship-3/
END:VEVENT
BEGIN:VEVENT
DTSTART;TZID=UTC:20250918T150000
DTEND;TZID=UTC:20250918T180000
DTSTAMP:20260426T041331
CREATED:20250913T164120Z
LAST-MODIFIED:20250913T164120Z
UID:2715-1758207600-1758218400@firstbaptistchurchhulettwy.com
SUMMARY:Food Bank
DESCRIPTION:Pick Up From 3:00 to 6:00pm.
URL:https://firstbaptistchurchhulettwy.com/event/food-bank-10/
END:VEVENT
BEGIN:VEVENT
DTSTART;TZID=UTC:20250917T180000
DTEND;TZID=UTC:20250917T200000
DTSTAMP:20260426T041331
CREATED:20250913T163322Z
LAST-MODIFIED:20250913T163322Z
UID:2712-1758132000-1758139200@firstbaptistchurchhulettwy.com
SUMMARY:Hope For The Hopeless
DESCRIPTION:
URL:https://firstbaptistchurchhulettwy.com/event/hope-for-the-hopeless/
END:VEVENT
BEGIN:VEVENT
DTSTART;TZID=UTC:20250917T160000
DTEND;TZID=UTC:20250917T173000
DTSTAMP:20260426T041331
CREATED:20250913T163110Z
LAST-MODIFIED:20250913T163110Z
UID:2710-1758124800-1758130200@firstbaptistchurchhulettwy.com
SUMMARY:Cbrangers
DESCRIPTION:
URL:https://firstbaptistchurchhulettwy.com/event/cbrangers-27/
END:VEVENT
BEGIN:VEVENT
DTSTART;TZID=UTC:20250917T140000
DTEND;TZID=UTC:20250917T150000
DTSTAMP:20260426T041331
CREATED:20250913T162910Z
LAST-MODIFIED:20250913T162910Z
UID:2706-1758117600-1758121200@firstbaptistchurchhulettwy.com
SUMMARY:Women's Bible Study
DESCRIPTION:When Women say Yes to God Lesson
URL:https://firstbaptistchurchhulettwy.com/event/womens-bible-study-16/
END:VEVENT
BEGIN:VEVENT
DTSTART;TZID=UTC:20250916T190000
DTEND;TZID=UTC:20250916T203000
DTSTAMP:20260426T041331
CREATED:20250913T161908Z
LAST-MODIFIED:20250913T161908Z
UID:2700-1758049200-1758054600@firstbaptistchurchhulettwy.com
SUMMARY:The Life of David\, Men's Bible Study
DESCRIPTION:Starts at 7:00pm.
URL:https://firstbaptistchurchhulettwy.com/event/the-life-of-david-mens-bible-study/
END:VEVENT
BEGIN:VEVENT
DTSTART;TZID=UTC:20250914T120000
DTEND;TZID=UTC:20250914T140000
DTSTAMP:20260426T041331
CREATED:20250913T161457Z
LAST-MODIFIED:20250913T161457Z
UID:2696-1757851200-1757858400@firstbaptistchurchhulettwy.com
SUMMARY:Special Prayer Meeting\, Hymn Sing and Fellowship Lunch
DESCRIPTION:Pray for our\, Country\, Church and Community. Following the Morning Service.
URL:https://firstbaptistchurchhulettwy.com/event/special-prayer-meeting-hymn-sing-and-fellowship-lunch/
END:VEVENT
BEGIN:VEVENT
DTSTART;TZID=UTC:20250909T190000
DTEND;TZID=UTC:20250909T203000
DTSTAMP:20260426T041331
CREATED:20250814T201130Z
LAST-MODIFIED:20250824T040742Z
UID:2652-1757444400-1757449800@firstbaptistchurchhulettwy.com
SUMMARY:Mens Bible Study
DESCRIPTION:
URL:https://firstbaptistchurchhulettwy.com/event/mens-bible-study-29/
END:VEVENT
BEGIN:VEVENT
DTSTART;TZID=UTC:20250907T103000
DTEND;TZID=UTC:20250907T140000
DTSTAMP:20260426T041331
CREATED:20250814T201007Z
LAST-MODIFIED:20250814T201007Z
UID:2649-1757241000-1757253600@firstbaptistchurchhulettwy.com
SUMMARY:Worship and Church Picnic at the Diamond L Guest Ranch
DESCRIPTION:
URL:https://firstbaptistchurchhulettwy.com/event/worship-and-church-picnic-at-the-diamond-l-guest-ranch/
LOCATION:Diamond  L guest Ranch\, 1030 Blacktail Creek Road\, Alva\, WY\, 82711\, United States
END:VEVENT
BEGIN:VEVENT
DTSTART;TZID=UTC:20250903T180000
DTEND;TZID=UTC:20250903T193000
DTSTAMP:20260426T041331
CREATED:20250814T200307Z
LAST-MODIFIED:20250814T200307Z
UID:2647-1756922400-1756927800@firstbaptistchurchhulettwy.com
SUMMARY:Faithful Friends Kick Off
DESCRIPTION:Get ready for a great year ahead.
URL:https://firstbaptistchurchhulettwy.com/event/faithful-friends-kick-off/
END:VEVENT
BEGIN:VEVENT
DTSTART;TZID=UTC:20250903T160000
DTEND;TZID=UTC:20250903T173000
DTSTAMP:20260426T041331
CREATED:20250814T195917Z
LAST-MODIFIED:20250814T195917Z
UID:2643-1756915200-1756920600@firstbaptistchurchhulettwy.com
SUMMARY:CBRangers
DESCRIPTION:Hayride kick off. Updated program\, Kids 3 years to 5th Grade.
URL:https://firstbaptistchurchhulettwy.com/event/cbrangers-22/
END:VEVENT
BEGIN:VEVENT
DTSTART;TZID=UTC:20250903T140000
DTEND;TZID=UTC:20250903T150000
DTSTAMP:20260426T041331
CREATED:20250814T200108Z
LAST-MODIFIED:20250814T200108Z
UID:2645-1756908000-1756911600@firstbaptistchurchhulettwy.com
SUMMARY:Ladies Bible Study
DESCRIPTION:When Women Say Yes to God.
URL:https://firstbaptistchurchhulettwy.com/event/ladies-bible-study-12/
END:VEVENT
END:VCALENDAR