BEGIN:VCALENDAR
VERSION:2.0
PRODID:-//First Baptist Church, Hulett Wyoming - ECPv6.15.20//NONSGML v1.0//EN
CALSCALE:GREGORIAN
METHOD:PUBLISH
X-ORIGINAL-URL:https://firstbaptistchurchhulettwy.com
X-WR-CALDESC:Events for First Baptist Church, Hulett Wyoming
REFRESH-INTERVAL;VALUE=DURATION:PT1H
X-Robots-Tag:noindex
X-PUBLISHED-TTL:PT1H
BEGIN:VTIMEZONE
TZID:UTC
BEGIN:STANDARD
TZOFFSETFROM:+0000
TZOFFSETTO:+0000
TZNAME:UTC
DTSTART:20240101T000000
END:STANDARD
END:VTIMEZONE
BEGIN:VEVENT
DTSTART;TZID=UTC:20251026T120000
DTEND;TZID=UTC:20251026T140000
DTSTAMP:20260426T042113
CREATED:20250928T012938Z
LAST-MODIFIED:20250928T012938Z
UID:2947-1761480000-1761487200@firstbaptistchurchhulettwy.com
SUMMARY:Church Business Meeting
DESCRIPTION:Fellowship lunch with meeting to follow.
URL:https://firstbaptistchurchhulettwy.com/event/church-business-meeting/
END:VEVENT
BEGIN:VEVENT
DTSTART;TZID=UTC:20251028T190000
DTEND;TZID=UTC:20251028T203000
DTSTAMP:20260426T042113
CREATED:20250928T013048Z
LAST-MODIFIED:20250928T013048Z
UID:2949-1761678000-1761683400@firstbaptistchurchhulettwy.com
SUMMARY:Men's Bible Study
DESCRIPTION:The Life of David
URL:https://firstbaptistchurchhulettwy.com/event/mens-bible-study-32/
END:VEVENT
BEGIN:VEVENT
DTSTART;TZID=UTC:20251029T140000
DTEND;TZID=UTC:20251029T153000
DTSTAMP:20260426T042113
CREATED:20250928T013140Z
LAST-MODIFIED:20250928T013140Z
UID:2951-1761746400-1761751800@firstbaptistchurchhulettwy.com
SUMMARY:Ladies Bible Study
DESCRIPTION:
URL:https://firstbaptistchurchhulettwy.com/event/ladies-bible-study-17/
END:VEVENT
BEGIN:VEVENT
DTSTART;TZID=UTC:20251029T160000
DTEND;TZID=UTC:20251029T173000
DTSTAMP:20260426T042113
CREATED:20250928T013230Z
LAST-MODIFIED:20250928T013230Z
UID:2953-1761753600-1761759000@firstbaptistchurchhulettwy.com
SUMMARY:CBRangers
DESCRIPTION:
URL:https://firstbaptistchurchhulettwy.com/event/cbrangers-33/
END:VEVENT
BEGIN:VEVENT
DTSTART;TZID=UTC:20251029T180000
DTEND;TZID=UTC:20251029T193000
DTSTAMP:20260426T042113
CREATED:20250928T013350Z
LAST-MODIFIED:20250928T013350Z
UID:2955-1761760800-1761766200@firstbaptistchurchhulettwy.com
SUMMARY:Faithful Friends
DESCRIPTION:
URL:https://firstbaptistchurchhulettwy.com/event/faithful-friends-27/
END:VEVENT
BEGIN:VEVENT
DTSTART;TZID=UTC:20251030T080000
DTEND;TZID=UTC:20251030T170000
DTSTAMP:20260426T042113
CREATED:20251030T174729Z
LAST-MODIFIED:20251030T174729Z
UID:3060-1761811200-1761843600@firstbaptistchurchhulettwy.com
SUMMARY:Food Bank
DESCRIPTION:Pick up from 3:00 to 6:00pm. Please call for arrangements.
URL:https://firstbaptistchurchhulettwy.com/event/food-bank-13/
END:VEVENT
BEGIN:VEVENT
DTSTART;TZID=UTC:20251102T123000
DTEND;TZID=UTC:20251102T133000
DTSTAMP:20260426T042113
CREATED:20251030T172456Z
LAST-MODIFIED:20251030T172456Z
UID:3049-1762086600-1762090200@firstbaptistchurchhulettwy.com
SUMMARY:Deacon's Meeting
DESCRIPTION:
URL:https://firstbaptistchurchhulettwy.com/event/deacons-meeting-5/
END:VEVENT
BEGIN:VEVENT
DTSTART;TZID=UTC:20251104T190000
DTEND;TZID=UTC:20251104T203000
DTSTAMP:20260426T042113
CREATED:20251030T172715Z
LAST-MODIFIED:20251030T172715Z
UID:3052-1762282800-1762288200@firstbaptistchurchhulettwy.com
SUMMARY:Men's Bible Study
DESCRIPTION:Men uplifting up men. \nThe Life of David.
URL:https://firstbaptistchurchhulettwy.com/event/mens-bible-study-34/
END:VEVENT
BEGIN:VEVENT
DTSTART;TZID=UTC:20251105T140000
DTEND;TZID=UTC:20251105T153000
DTSTAMP:20260426T042113
CREATED:20251030T173314Z
LAST-MODIFIED:20251030T173314Z
UID:3054-1762351200-1762356600@firstbaptistchurchhulettwy.com
SUMMARY:Ladies Bible Study
DESCRIPTION:Wednesday’s at 2:00pm Lyrics for Life\, A rightnow media study \n 
URL:https://firstbaptistchurchhulettwy.com/event/ladies-bible-study-18/
END:VEVENT
BEGIN:VEVENT
DTSTART;TZID=UTC:20251105T160000
DTEND;TZID=UTC:20251105T173000
DTSTAMP:20260426T042113
CREATED:20251030T173455Z
LAST-MODIFIED:20251030T173455Z
UID:3056-1762358400-1762363800@firstbaptistchurchhulettwy.com
SUMMARY:CBRangers
DESCRIPTION:For Children\, 3 to 5th grade.
URL:https://firstbaptistchurchhulettwy.com/event/cbrangers-34/
END:VEVENT
BEGIN:VEVENT
DTSTART;TZID=UTC:20251105T180000
DTEND;TZID=UTC:20251105T193000
DTSTAMP:20260426T042113
CREATED:20251030T173628Z
LAST-MODIFIED:20251030T173628Z
UID:3058-1762365600-1762371000@firstbaptistchurchhulettwy.com
SUMMARY:Faithful Friends
DESCRIPTION:6th grade through highschool
URL:https://firstbaptistchurchhulettwy.com/event/faithful-friends-28/
END:VEVENT
BEGIN:VEVENT
DTSTART;TZID=UTC:20251109T120000
DTEND;TZID=UTC:20251109T140000
DTSTAMP:20260426T042113
CREATED:20251030T175014Z
LAST-MODIFIED:20251030T175014Z
UID:3062-1762689600-1762696800@firstbaptistchurchhulettwy.com
SUMMARY:Church Business Meeting and Potluck
DESCRIPTION:Following the morning service!
URL:https://firstbaptistchurchhulettwy.com/event/church-business-meeting-and-potluck/
END:VEVENT
BEGIN:VEVENT
DTSTART;TZID=UTC:20251111T190000
DTEND;TZID=UTC:20251111T200000
DTSTAMP:20260426T042113
CREATED:20251030T175919Z
LAST-MODIFIED:20251030T175919Z
UID:3064-1762887600-1762891200@firstbaptistchurchhulettwy.com
SUMMARY:Men's Bible Study
DESCRIPTION:The Life of David.
URL:https://firstbaptistchurchhulettwy.com/event/mens-bible-study-35/
END:VEVENT
BEGIN:VEVENT
DTSTART;TZID=UTC:20251112T140000
DTEND;TZID=UTC:20251112T153000
DTSTAMP:20260426T042113
CREATED:20251030T180125Z
LAST-MODIFIED:20251030T180125Z
UID:3066-1762956000-1762961400@firstbaptistchurchhulettwy.com
SUMMARY:Ladies Bible Study
DESCRIPTION:Lyrics of Life
URL:https://firstbaptistchurchhulettwy.com/event/ladies-bible-study-19/
END:VEVENT
BEGIN:VEVENT
DTSTART;TZID=UTC:20251112T183000
DTEND;TZID=UTC:20251112T200000
DTSTAMP:20260426T042113
CREATED:20251030T194622Z
LAST-MODIFIED:20251030T194622Z
UID:3069-1762972200-1762977600@firstbaptistchurchhulettwy.com
SUMMARY:Veterans Appreciation Dinner
DESCRIPTION:6:30 to 8:00pm. Dinner and entertainment provided. Free\,  Honoring those who have served our country.
URL:https://firstbaptistchurchhulettwy.com/event/veterans-appreciation-dinner/
END:VEVENT
BEGIN:VEVENT
DTSTART;TZID=UTC:20251116T123000
DTEND;TZID=UTC:20251116T140000
DTSTAMP:20260426T042113
CREATED:20251030T194824Z
LAST-MODIFIED:20251030T194824Z
UID:3071-1763296200-1763301600@firstbaptistchurchhulettwy.com
SUMMARY:The Art of Marriage.
DESCRIPTION:Fellowship and discussion group. Following the morning service. Children’s class provided
URL:https://firstbaptistchurchhulettwy.com/event/the-art-of-marriage-2/
END:VEVENT
BEGIN:VEVENT
DTSTART;TZID=UTC:20251118T190000
DTEND;TZID=UTC:20251118T200000
DTSTAMP:20260426T042113
CREATED:20251030T194948Z
LAST-MODIFIED:20251030T194948Z
UID:3073-1763492400-1763496000@firstbaptistchurchhulettwy.com
SUMMARY:Men's Bible Study
DESCRIPTION:The Life of David.
URL:https://firstbaptistchurchhulettwy.com/event/mens-bible-study-36/
END:VEVENT
BEGIN:VEVENT
DTSTART;TZID=UTC:20251119T140000
DTEND;TZID=UTC:20251119T153000
DTSTAMP:20260426T042113
CREATED:20251030T195252Z
LAST-MODIFIED:20251030T195252Z
UID:3075-1763560800-1763566200@firstbaptistchurchhulettwy.com
SUMMARY:Women's Bible Study
DESCRIPTION:Lyrics of Life
URL:https://firstbaptistchurchhulettwy.com/event/womens-bible-study-19/
END:VEVENT
BEGIN:VEVENT
DTSTART;TZID=UTC:20251120T150000
DTEND;TZID=UTC:20251120T180000
DTSTAMP:20260426T042113
CREATED:20251030T212407Z
LAST-MODIFIED:20251030T212407Z
UID:3079-1763650800-1763661600@firstbaptistchurchhulettwy.com
SUMMARY:Food Bank
DESCRIPTION:Please Call Becky\, if box needed. Pick up from 3:00 to 6:00pm.
URL:https://firstbaptistchurchhulettwy.com/event/food-bank-14/
END:VEVENT
BEGIN:VEVENT
DTSTART;TZID=UTC:20251123T123000
DTEND;TZID=UTC:20251123T140000
DTSTAMP:20260426T042113
CREATED:20251030T212110Z
LAST-MODIFIED:20251030T212110Z
UID:3077-1763901000-1763906400@firstbaptistchurchhulettwy.com
SUMMARY:Thanksgiving Fellowship
DESCRIPTION:Following the morning service. Watch for sign-up sheet\, or call Becky for details.
URL:https://firstbaptistchurchhulettwy.com/event/thanksgiving-fellowship/
END:VEVENT
BEGIN:VEVENT
DTSTART;TZID=UTC:20251125T190000
DTEND;TZID=UTC:20251125T200000
DTSTAMP:20260426T042113
CREATED:20251030T212539Z
LAST-MODIFIED:20251030T212539Z
UID:3081-1764097200-1764100800@firstbaptistchurchhulettwy.com
SUMMARY:Men's Bible Study
DESCRIPTION:Life of David.
URL:https://firstbaptistchurchhulettwy.com/event/mens-bible-study-37/
END:VEVENT
BEGIN:VEVENT
DTSTART;TZID=UTC:20251130T120000
DTEND;TZID=UTC:20251130T160000
DTSTAMP:20260426T042113
CREATED:20251030T213213Z
LAST-MODIFIED:20251120T142840Z
UID:3083-1764504000-1764518400@firstbaptistchurchhulettwy.com
SUMMARY:Pine Car Derby\, Lunch & Race
DESCRIPTION:Following the morning service.  Lunch with race to follow.
URL:https://firstbaptistchurchhulettwy.com/event/pine-car-derby-lunch-race/
END:VEVENT
BEGIN:VEVENT
DTSTART;TZID=UTC:20251202T190000
DTEND;TZID=UTC:20251202T200000
DTSTAMP:20260426T042113
CREATED:20251129T221923Z
LAST-MODIFIED:20251129T221923Z
UID:3178-1764702000-1764705600@firstbaptistchurchhulettwy.com
SUMMARY:Men's Bible Study
DESCRIPTION:The Life of David.
URL:https://firstbaptistchurchhulettwy.com/event/mens-bible-study-38/
END:VEVENT
BEGIN:VEVENT
DTSTART;TZID=UTC:20251203T140000
DTEND;TZID=UTC:20251203T153000
DTSTAMP:20260426T042113
CREATED:20251129T222047Z
LAST-MODIFIED:20251129T222047Z
UID:3180-1764770400-1764775800@firstbaptistchurchhulettwy.com
SUMMARY:Ladies Bible Study
DESCRIPTION:
URL:https://firstbaptistchurchhulettwy.com/event/ladies-bible-study-20/
END:VEVENT
BEGIN:VEVENT
DTSTART;TZID=UTC:20251203T160000
DTEND;TZID=UTC:20251203T173000
DTSTAMP:20260426T042113
CREATED:20251129T222148Z
LAST-MODIFIED:20251129T222148Z
UID:3182-1764777600-1764783000@firstbaptistchurchhulettwy.com
SUMMARY:Cbrangers
DESCRIPTION:Play Practice Begins
URL:https://firstbaptistchurchhulettwy.com/event/cbrangers-35/
END:VEVENT
BEGIN:VEVENT
DTSTART;TZID=UTC:20251203T160000
DTEND;TZID=UTC:20251203T180000
DTSTAMP:20260426T042113
CREATED:20251129T222303Z
LAST-MODIFIED:20251129T222303Z
UID:3184-1764777600-1764784800@firstbaptistchurchhulettwy.com
SUMMARY:Faithful Friends
DESCRIPTION:Meeting early for play practice
URL:https://firstbaptistchurchhulettwy.com/event/faithful-friends-29/
END:VEVENT
BEGIN:VEVENT
DTSTART;TZID=UTC:20251204T150000
DTEND;TZID=UTC:20251204T180000
DTSTAMP:20260426T042113
CREATED:20251129T222440Z
LAST-MODIFIED:20251129T222440Z
UID:3186-1764860400-1764871200@firstbaptistchurchhulettwy.com
SUMMARY:Hulett Food Bank
DESCRIPTION:Pick up from 3:00 to 6:00pm. Parsonage garage.
URL:https://firstbaptistchurchhulettwy.com/event/hulett-food-bank/
END:VEVENT
BEGIN:VEVENT
DTSTART;TZID=UTC:20251207T123000
DTEND;TZID=UTC:20251207T133000
DTSTAMP:20260426T042113
CREATED:20251129T222602Z
LAST-MODIFIED:20251129T222602Z
UID:3188-1765110600-1765114200@firstbaptistchurchhulettwy.com
SUMMARY:Deacon's Meeting
DESCRIPTION:Deacon’s Meeting – Following the morning service.
URL:https://firstbaptistchurchhulettwy.com/event/deacons-meeting-6/
END:VEVENT
BEGIN:VEVENT
DTSTART;TZID=UTC:20251209T190000
DTEND;TZID=UTC:20251209T200000
DTSTAMP:20260426T042113
CREATED:20251129T222746Z
LAST-MODIFIED:20251129T222746Z
UID:3190-1765306800-1765310400@firstbaptistchurchhulettwy.com
SUMMARY:Men's Bible Study
DESCRIPTION:The Life of David
URL:https://firstbaptistchurchhulettwy.com/event/mens-bible-study-39/
END:VEVENT
BEGIN:VEVENT
DTSTART;TZID=UTC:20251210T140000
DTEND;TZID=UTC:20251210T153000
DTSTAMP:20260426T042113
CREATED:20251129T222908Z
LAST-MODIFIED:20251129T222908Z
UID:3192-1765375200-1765380600@firstbaptistchurchhulettwy.com
SUMMARY:Ladies Bible Study
DESCRIPTION:
URL:https://firstbaptistchurchhulettwy.com/event/ladies-bible-study-21/
END:VEVENT
END:VCALENDAR