BEGIN:VCALENDAR
VERSION:2.0
PRODID:-//First Baptist Church, Hulett Wyoming - ECPv6.15.20//NONSGML v1.0//EN
CALSCALE:GREGORIAN
METHOD:PUBLISH
X-WR-CALNAME:First Baptist Church, Hulett Wyoming
X-ORIGINAL-URL:https://firstbaptistchurchhulettwy.com
X-WR-CALDESC:Events for First Baptist Church, Hulett Wyoming
REFRESH-INTERVAL;VALUE=DURATION:PT1H
X-Robots-Tag:noindex
X-PUBLISHED-TTL:PT1H
BEGIN:VTIMEZONE
TZID:UTC
BEGIN:STANDARD
TZOFFSETFROM:+0000
TZOFFSETTO:+0000
TZNAME:UTC
DTSTART:20250101T000000
END:STANDARD
END:VTIMEZONE
BEGIN:VEVENT
DTSTART;TZID=UTC:20260405T070000
DTEND;TZID=UTC:20260405T100000
DTSTAMP:20260425T164823
CREATED:20260327T145525Z
LAST-MODIFIED:20260327T145525Z
UID:3616-1775372400-1775383200@firstbaptistchurchhulettwy.com
SUMMARY:Easter Sunday Schedule
DESCRIPTION:7:00am   Sunrise service (At Devils Tower Golf Course By the Upper Pond.) \nEaster Breakfast 8:00 \nEaster Service 9:00
URL:https://firstbaptistchurchhulettwy.com/event/easter-sunday-schedule/
END:VEVENT
BEGIN:VEVENT
DTSTART;TZID=UTC:20260413T080000
DTEND;TZID=UTC:20260415T170000
DTSTAMP:20260425T164823
CREATED:20260411T034609Z
LAST-MODIFIED:20260411T034609Z
UID:3641-1776067200-1776272400@firstbaptistchurchhulettwy.com
SUMMARY:Northan Plains Fellowship\, Douglas
DESCRIPTION:Pastor gone to Douglas for pastor’s conference.  Contact Becky\, with any prayer requests etc…
URL:https://firstbaptistchurchhulettwy.com/event/northan-plains-fellowship-douglas/
END:VEVENT
BEGIN:VEVENT
DTSTART;TZID=UTC:20260415T140000
DTEND;TZID=UTC:20260415T150000
DTSTAMP:20260425T164823
CREATED:20260411T034852Z
LAST-MODIFIED:20260411T034852Z
UID:3643-1776261600-1776265200@firstbaptistchurchhulettwy.com
SUMMARY:Women's Bible Study
DESCRIPTION:
URL:https://firstbaptistchurchhulettwy.com/event/womens-bible-study-32/
END:VEVENT
BEGIN:VEVENT
DTSTART;TZID=UTC:20260415T160000
DTEND;TZID=UTC:20260415T173000
DTSTAMP:20260425T164823
CREATED:20260411T034945Z
LAST-MODIFIED:20260411T034945Z
UID:3645-1776268800-1776274200@firstbaptistchurchhulettwy.com
SUMMARY:CBRangers
DESCRIPTION:
URL:https://firstbaptistchurchhulettwy.com/event/cbrangers-47/
END:VEVENT
BEGIN:VEVENT
DTSTART;TZID=UTC:20260415T180000
DTEND;TZID=UTC:20260415T193000
DTSTAMP:20260425T164823
CREATED:20260411T035053Z
LAST-MODIFIED:20260411T035053Z
UID:3647-1776276000-1776281400@firstbaptistchurchhulettwy.com
SUMMARY:Faithful Friends
DESCRIPTION:
URL:https://firstbaptistchurchhulettwy.com/event/faithful-friends-40/
END:VEVENT
BEGIN:VEVENT
DTSTART;TZID=UTC:20260421T190000
DTEND;TZID=UTC:20260421T200000
DTSTAMP:20260425T164823
CREATED:20260411T035356Z
LAST-MODIFIED:20260411T035356Z
UID:3649-1776798000-1776801600@firstbaptistchurchhulettwy.com
SUMMARY:Men's Bible Study
DESCRIPTION:
URL:https://firstbaptistchurchhulettwy.com/event/mens-bible-study-48/
END:VEVENT
BEGIN:VEVENT
DTSTART;TZID=UTC:20260422T140000
DTEND;TZID=UTC:20260422T150000
DTSTAMP:20260425T164823
CREATED:20260411T040139Z
LAST-MODIFIED:20260411T040139Z
UID:3655-1776866400-1776870000@firstbaptistchurchhulettwy.com
SUMMARY:Women's Bible Study
DESCRIPTION:
URL:https://firstbaptistchurchhulettwy.com/event/womens-bible-study-33/
END:VEVENT
BEGIN:VEVENT
DTSTART;TZID=UTC:20260422T160000
DTEND;TZID=UTC:20260422T173000
DTSTAMP:20260425T164823
CREATED:20260411T035733Z
LAST-MODIFIED:20260411T041842Z
UID:3651-1776873600-1776879000@firstbaptistchurchhulettwy.com
SUMMARY:CBRangers
DESCRIPTION:
URL:https://firstbaptistchurchhulettwy.com/event/cbrangers-48/
END:VEVENT
BEGIN:VEVENT
DTSTART;TZID=UTC:20260422T180000
DTEND;TZID=UTC:20260422T190000
DTSTAMP:20260425T164823
CREATED:20260411T035909Z
LAST-MODIFIED:20260411T035909Z
UID:3653-1776880800-1776884400@firstbaptistchurchhulettwy.com
SUMMARY:Faithful Friends
DESCRIPTION:
URL:https://firstbaptistchurchhulettwy.com/event/faithful-friends-41/
END:VEVENT
BEGIN:VEVENT
DTSTART;TZID=UTC:20260426T120000
DTEND;TZID=UTC:20260426T140000
DTSTAMP:20260425T164823
CREATED:20260411T040344Z
LAST-MODIFIED:20260411T040344Z
UID:3657-1777204800-1777212000@firstbaptistchurchhulettwy.com
SUMMARY:Church Business Meeting
DESCRIPTION:Following morning service\, potluck lunch\, meeting after lunch.
URL:https://firstbaptistchurchhulettwy.com/event/church-business-meeting-2/
END:VEVENT
BEGIN:VEVENT
DTSTART;TZID=UTC:20260426T180000
DTEND;TZID=UTC:20260426T190000
DTSTAMP:20260425T164823
CREATED:20260419T013639Z
LAST-MODIFIED:20260419T013639Z
UID:3694-1777226400-1777230000@firstbaptistchurchhulettwy.com
SUMMARY:Evening Psalms Service
DESCRIPTION:Hosted to by the Faithful Friends\, 6:00pm.
URL:https://firstbaptistchurchhulettwy.com/event/evening-psalms-service/
END:VEVENT
BEGIN:VEVENT
DTSTART;TZID=UTC:20260428T190000
DTEND;TZID=UTC:20260428T200000
DTSTAMP:20260425T164823
CREATED:20260411T040520Z
LAST-MODIFIED:20260411T040520Z
UID:3659-1777402800-1777406400@firstbaptistchurchhulettwy.com
SUMMARY:Men's Bible Study
DESCRIPTION:
URL:https://firstbaptistchurchhulettwy.com/event/mens-bible-study-55/
END:VEVENT
BEGIN:VEVENT
DTSTART;TZID=UTC:20260429T180000
DTEND;TZID=UTC:20260429T180000
DTSTAMP:20260425T164823
CREATED:20260411T040654Z
LAST-MODIFIED:20260411T041011Z
UID:3661-1777485600-1777485600@firstbaptistchurchhulettwy.com
SUMMARY:Faithful Friends
DESCRIPTION:
URL:https://firstbaptistchurchhulettwy.com/event/cbrangers-49/
END:VEVENT
BEGIN:VEVENT
DTSTART;TZID=UTC:20260503T103000
DTEND;TZID=UTC:20260503T143000
DTSTAMP:20260425T164823
CREATED:20260411T041201Z
LAST-MODIFIED:20260411T041201Z
UID:3665-1777804200-1777818600@firstbaptistchurchhulettwy.com
SUMMARY:Bible Feud
DESCRIPTION:Following morning service and lunch.
URL:https://firstbaptistchurchhulettwy.com/event/bible-feud/
END:VEVENT
BEGIN:VEVENT
DTSTART;TZID=UTC:20260506T190000
DTEND;TZID=UTC:20260506T200000
DTSTAMP:20260425T164823
CREATED:20260411T041340Z
LAST-MODIFIED:20260411T041340Z
UID:3667-1778094000-1778097600@firstbaptistchurchhulettwy.com
SUMMARY:Men's Bible Study
DESCRIPTION:
URL:https://firstbaptistchurchhulettwy.com/event/mens-bible-study-56/
END:VEVENT
BEGIN:VEVENT
DTSTART;TZID=UTC:20260510T103000
DTEND;TZID=UTC:20260510T120000
DTSTAMP:20260425T164823
CREATED:20260419T014133Z
LAST-MODIFIED:20260419T014218Z
UID:3696-1778409000-1778414400@firstbaptistchurchhulettwy.com
SUMMARY:Class of '26 Worship Service
DESCRIPTION:
URL:https://firstbaptistchurchhulettwy.com/event/class-of-26-worship-service/
END:VEVENT
BEGIN:VEVENT
DTSTART;TZID=UTC:20260512T190000
DTEND;TZID=UTC:20260512T200000
DTSTAMP:20260425T164823
CREATED:20260411T041523Z
LAST-MODIFIED:20260411T041523Z
UID:3669-1778612400-1778616000@firstbaptistchurchhulettwy.com
SUMMARY:Men's Bible Study
DESCRIPTION:
URL:https://firstbaptistchurchhulettwy.com/event/mens-bible-study-57/
END:VEVENT
BEGIN:VEVENT
DTSTART;TZID=UTC:20260520T140000
DTEND;TZID=UTC:20260520T150000
DTSTAMP:20260425T164823
CREATED:20260411T041659Z
LAST-MODIFIED:20260411T041659Z
UID:3671-1779285600-1779289200@firstbaptistchurchhulettwy.com
SUMMARY:Women's Bible Study
DESCRIPTION:
URL:https://firstbaptistchurchhulettwy.com/event/womens-bible-study-34/
END:VEVENT
END:VCALENDAR