BEGIN:VCALENDAR
VERSION:2.0
PRODID:-//First Baptist Church, Hulett Wyoming - ECPv6.15.20//NONSGML v1.0//EN
CALSCALE:GREGORIAN
METHOD:PUBLISH
X-ORIGINAL-URL:https://firstbaptistchurchhulettwy.com
X-WR-CALDESC:Events for First Baptist Church, Hulett Wyoming
REFRESH-INTERVAL;VALUE=DURATION:PT1H
X-Robots-Tag:noindex
X-PUBLISHED-TTL:PT1H
BEGIN:VTIMEZONE
TZID:UTC
BEGIN:STANDARD
TZOFFSETFROM:+0000
TZOFFSETTO:+0000
TZNAME:UTC
DTSTART:20250101T000000
END:STANDARD
END:VTIMEZONE
BEGIN:VEVENT
DTSTART;TZID=UTC:20260422T180000
DTEND;TZID=UTC:20260422T190000
DTSTAMP:20260425T141618
CREATED:20260411T035909Z
LAST-MODIFIED:20260411T035909Z
UID:3653-1776880800-1776884400@firstbaptistchurchhulettwy.com
SUMMARY:Faithful Friends
DESCRIPTION:
URL:https://firstbaptistchurchhulettwy.com/event/faithful-friends-41/
END:VEVENT
BEGIN:VEVENT
DTSTART;TZID=UTC:20260422T160000
DTEND;TZID=UTC:20260422T173000
DTSTAMP:20260425T141618
CREATED:20260411T035733Z
LAST-MODIFIED:20260411T041842Z
UID:3651-1776873600-1776879000@firstbaptistchurchhulettwy.com
SUMMARY:CBRangers
DESCRIPTION:
URL:https://firstbaptistchurchhulettwy.com/event/cbrangers-48/
END:VEVENT
BEGIN:VEVENT
DTSTART;TZID=UTC:20260422T140000
DTEND;TZID=UTC:20260422T150000
DTSTAMP:20260425T141618
CREATED:20260411T040139Z
LAST-MODIFIED:20260411T040139Z
UID:3655-1776866400-1776870000@firstbaptistchurchhulettwy.com
SUMMARY:Women's Bible Study
DESCRIPTION:
URL:https://firstbaptistchurchhulettwy.com/event/womens-bible-study-33/
END:VEVENT
BEGIN:VEVENT
DTSTART;TZID=UTC:20260421T190000
DTEND;TZID=UTC:20260421T200000
DTSTAMP:20260425T141618
CREATED:20260411T035356Z
LAST-MODIFIED:20260411T035356Z
UID:3649-1776798000-1776801600@firstbaptistchurchhulettwy.com
SUMMARY:Men's Bible Study
DESCRIPTION:
URL:https://firstbaptistchurchhulettwy.com/event/mens-bible-study-48/
END:VEVENT
BEGIN:VEVENT
DTSTART;TZID=UTC:20260415T180000
DTEND;TZID=UTC:20260415T193000
DTSTAMP:20260425T141618
CREATED:20260411T035053Z
LAST-MODIFIED:20260411T035053Z
UID:3647-1776276000-1776281400@firstbaptistchurchhulettwy.com
SUMMARY:Faithful Friends
DESCRIPTION:
URL:https://firstbaptistchurchhulettwy.com/event/faithful-friends-40/
END:VEVENT
BEGIN:VEVENT
DTSTART;TZID=UTC:20260415T160000
DTEND;TZID=UTC:20260415T173000
DTSTAMP:20260425T141618
CREATED:20260411T034945Z
LAST-MODIFIED:20260411T034945Z
UID:3645-1776268800-1776274200@firstbaptistchurchhulettwy.com
SUMMARY:CBRangers
DESCRIPTION:
URL:https://firstbaptistchurchhulettwy.com/event/cbrangers-47/
END:VEVENT
BEGIN:VEVENT
DTSTART;TZID=UTC:20260415T140000
DTEND;TZID=UTC:20260415T150000
DTSTAMP:20260425T141618
CREATED:20260411T034852Z
LAST-MODIFIED:20260411T034852Z
UID:3643-1776261600-1776265200@firstbaptistchurchhulettwy.com
SUMMARY:Women's Bible Study
DESCRIPTION:
URL:https://firstbaptistchurchhulettwy.com/event/womens-bible-study-32/
END:VEVENT
BEGIN:VEVENT
DTSTART;TZID=UTC:20260413T080000
DTEND;TZID=UTC:20260415T170000
DTSTAMP:20260425T141618
CREATED:20260411T034609Z
LAST-MODIFIED:20260411T034609Z
UID:3641-1776067200-1776272400@firstbaptistchurchhulettwy.com
SUMMARY:Northan Plains Fellowship\, Douglas
DESCRIPTION:Pastor gone to Douglas for pastor’s conference.  Contact Becky\, with any prayer requests etc…
URL:https://firstbaptistchurchhulettwy.com/event/northan-plains-fellowship-douglas/
END:VEVENT
BEGIN:VEVENT
DTSTART;TZID=UTC:20260405T070000
DTEND;TZID=UTC:20260405T100000
DTSTAMP:20260425T141618
CREATED:20260327T145525Z
LAST-MODIFIED:20260327T145525Z
UID:3616-1775372400-1775383200@firstbaptistchurchhulettwy.com
SUMMARY:Easter Sunday Schedule
DESCRIPTION:7:00am   Sunrise service (At Devils Tower Golf Course By the Upper Pond.) \nEaster Breakfast 8:00 \nEaster Service 9:00
URL:https://firstbaptistchurchhulettwy.com/event/easter-sunday-schedule/
END:VEVENT
BEGIN:VEVENT
DTSTART;TZID=UTC:20260401T180000
DTEND;TZID=UTC:20260401T210000
DTSTAMP:20260425T141618
CREATED:20260327T145813Z
LAST-MODIFIED:20260327T145813Z
UID:3619-1775066400-1775077200@firstbaptistchurchhulettwy.com
SUMMARY:Passover Seder Service
DESCRIPTION:Jewish Style Service And Meal 6:00pm
URL:https://firstbaptistchurchhulettwy.com/event/passover-seder-service-2/
END:VEVENT
BEGIN:VEVENT
DTSTART;TZID=UTC:20260331T190000
DTEND;TZID=UTC:20260331T203000
DTSTAMP:20260425T141618
CREATED:20260220T214928Z
LAST-MODIFIED:20260220T214928Z
UID:3512-1774983600-1774989000@firstbaptistchurchhulettwy.com
SUMMARY:Men's Bible Study
DESCRIPTION:The Life of David
URL:https://firstbaptistchurchhulettwy.com/event/mens-bible-study-54/
END:VEVENT
BEGIN:VEVENT
DTSTART;TZID=UTC:20260325T180000
DTEND;TZID=UTC:20260325T193000
DTSTAMP:20260425T141618
CREATED:20260220T220206Z
LAST-MODIFIED:20260220T220206Z
UID:3528-1774461600-1774467000@firstbaptistchurchhulettwy.com
SUMMARY:Faithful Friends
DESCRIPTION:6th to 12th grade
URL:https://firstbaptistchurchhulettwy.com/event/faithful-friends-39/
END:VEVENT
BEGIN:VEVENT
DTSTART;TZID=UTC:20260325T160000
DTEND;TZID=UTC:20260325T173000
DTSTAMP:20260425T141618
CREATED:20260220T215547Z
LAST-MODIFIED:20260220T215547Z
UID:3520-1774454400-1774459800@firstbaptistchurchhulettwy.com
SUMMARY:CBRangers
DESCRIPTION:Ages 3 to 5th grade
URL:https://firstbaptistchurchhulettwy.com/event/cbrangers-45/
END:VEVENT
BEGIN:VEVENT
DTSTART;TZID=UTC:20260325T140000
DTEND;TZID=UTC:20260325T150000
DTSTAMP:20260425T141618
CREATED:20260220T220537Z
LAST-MODIFIED:20260220T220537Z
UID:3534-1774447200-1774450800@firstbaptistchurchhulettwy.com
SUMMARY:Women's Bible Study
DESCRIPTION:
URL:https://firstbaptistchurchhulettwy.com/event/womens-bible-study-30/
END:VEVENT
BEGIN:VEVENT
DTSTART;TZID=UTC:20260324T190000
DTEND;TZID=UTC:20260324T200000
DTSTAMP:20260425T141618
CREATED:20260220T214724Z
LAST-MODIFIED:20260220T214724Z
UID:3510-1774378800-1774382400@firstbaptistchurchhulettwy.com
SUMMARY:Men's Bible Study
DESCRIPTION:Life of David
URL:https://firstbaptistchurchhulettwy.com/event/mens-bible-study-53/
END:VEVENT
BEGIN:VEVENT
DTSTART;TZID=UTC:20260321T080000
DTEND;TZID=UTC:20260321T133000
DTSTAMP:20260425T141618
CREATED:20260309T014824Z
LAST-MODIFIED:20260309T015455Z
UID:3580-1774080000-1774099800@firstbaptistchurchhulettwy.com
SUMMARY:Womens conferance
DESCRIPTION:
URL:https://firstbaptistchurchhulettwy.com/event/womens-conferance/
END:VEVENT
BEGIN:VEVENT
DTSTART;TZID=UTC:20260320T180000
DTEND;TZID=UTC:20260320T203000
DTSTAMP:20260425T141618
CREATED:20260309T014721Z
LAST-MODIFIED:20260309T014721Z
UID:3577-1774029600-1774038600@firstbaptistchurchhulettwy.com
SUMMARY:Women's Conference
DESCRIPTION:
URL:https://firstbaptistchurchhulettwy.com/event/womens-conference/
END:VEVENT
BEGIN:VEVENT
DTSTART;TZID=UTC:20260318T180000
DTEND;TZID=UTC:20260318T193000
DTSTAMP:20260425T141618
CREATED:20260220T220054Z
LAST-MODIFIED:20260220T220054Z
UID:3526-1773856800-1773862200@firstbaptistchurchhulettwy.com
SUMMARY:Faithful Friends
DESCRIPTION:6th through 12th grade
URL:https://firstbaptistchurchhulettwy.com/event/faithful-friends-38/
END:VEVENT
BEGIN:VEVENT
DTSTART;TZID=UTC:20260318T160000
DTEND;TZID=UTC:20260318T173000
DTSTAMP:20260425T141618
CREATED:20260220T215310Z
LAST-MODIFIED:20260220T215310Z
UID:3518-1773849600-1773855000@firstbaptistchurchhulettwy.com
SUMMARY:CBRangers
DESCRIPTION:Ages 3 years to 5th grade
URL:https://firstbaptistchurchhulettwy.com/event/cbrangers-44/
END:VEVENT
BEGIN:VEVENT
DTSTART;TZID=UTC:20260318T140000
DTEND;TZID=UTC:20260318T150000
DTSTAMP:20260425T141618
CREATED:20260220T224104Z
LAST-MODIFIED:20260220T224104Z
UID:3545-1773842400-1773846000@firstbaptistchurchhulettwy.com
SUMMARY:Women's Bible Study
DESCRIPTION:
URL:https://firstbaptistchurchhulettwy.com/event/womens-bible-study-31/
END:VEVENT
BEGIN:VEVENT
DTSTART;TZID=UTC:20260317T190000
DTEND;TZID=UTC:20260317T200000
DTSTAMP:20260425T141618
CREATED:20260220T214624Z
LAST-MODIFIED:20260220T214624Z
UID:3508-1773774000-1773777600@firstbaptistchurchhulettwy.com
SUMMARY:Men's Bible Study
DESCRIPTION:Life of David
URL:https://firstbaptistchurchhulettwy.com/event/mens-bible-study-52/
END:VEVENT
BEGIN:VEVENT
DTSTART;TZID=UTC:20260315T140000
DTEND;TZID=UTC:20260315T170000
DTSTAMP:20260425T141618
CREATED:20260220T213423Z
LAST-MODIFIED:20260220T213423Z
UID:3500-1773583200-1773594000@firstbaptistchurchhulettwy.com
SUMMARY:Vertical Marriage\, Session 6
DESCRIPTION:Session 6 at First Baptist Church of Hulett
URL:https://firstbaptistchurchhulettwy.com/event/vertical-marriage-session-6/
END:VEVENT
BEGIN:VEVENT
DTSTART;TZID=UTC:20260311T180000
DTEND;TZID=UTC:20260311T193000
DTSTAMP:20260425T141618
CREATED:20260220T215849Z
LAST-MODIFIED:20260220T215849Z
UID:3524-1773252000-1773257400@firstbaptistchurchhulettwy.com
SUMMARY:Faithful Friends
DESCRIPTION:6th to 12th grade
URL:https://firstbaptistchurchhulettwy.com/event/faithful-friends-37/
END:VEVENT
BEGIN:VEVENT
DTSTART;TZID=UTC:20260311T160000
DTEND;TZID=UTC:20260311T173000
DTSTAMP:20260425T141618
CREATED:20260220T215150Z
LAST-MODIFIED:20260220T224431Z
UID:3516-1773244800-1773250200@firstbaptistchurchhulettwy.com
SUMMARY:CBRangers
DESCRIPTION:Ages 3 years through 5th grade
URL:https://firstbaptistchurchhulettwy.com/event/cbrangers-43/
END:VEVENT
BEGIN:VEVENT
DTSTART;TZID=UTC:20260311T140000
DTEND;TZID=UTC:20260311T150000
DTSTAMP:20260425T141618
CREATED:20260220T220448Z
LAST-MODIFIED:20260220T220448Z
UID:3532-1773237600-1773241200@firstbaptistchurchhulettwy.com
SUMMARY:Women's Bible Study
DESCRIPTION:
URL:https://firstbaptistchurchhulettwy.com/event/womens-bible-study-29/
END:VEVENT
BEGIN:VEVENT
DTSTART;TZID=UTC:20260310T190000
DTEND;TZID=UTC:20260310T200000
DTSTAMP:20260425T141618
CREATED:20260220T214456Z
LAST-MODIFIED:20260220T214456Z
UID:3506-1773169200-1773172800@firstbaptistchurchhulettwy.com
SUMMARY:Men's Bible Study
DESCRIPTION:The Life of David
URL:https://firstbaptistchurchhulettwy.com/event/mens-bible-study-51/
END:VEVENT
BEGIN:VEVENT
DTSTART;TZID=UTC:20260308T140000
DTEND;TZID=UTC:20260308T170000
DTSTAMP:20260425T141618
CREATED:20260220T213251Z
LAST-MODIFIED:20260220T213251Z
UID:3498-1772978400-1772989200@firstbaptistchurchhulettwy.com
SUMMARY:Vertical Marriage\, Session 5
DESCRIPTION:Session 5 at Oshoto Community Bible Church
URL:https://firstbaptistchurchhulettwy.com/event/vertical-marriage-session-5/
END:VEVENT
BEGIN:VEVENT
DTSTART;TZID=UTC:20260305T150000
DTEND;TZID=UTC:20260305T180000
DTSTAMP:20260425T141618
CREATED:20260220T220819Z
LAST-MODIFIED:20260220T220819Z
UID:3536-1772722800-1772733600@firstbaptistchurchhulettwy.com
SUMMARY:Food Bank
DESCRIPTION:Pick up from 3:00 to 6:00pm
URL:https://firstbaptistchurchhulettwy.com/event/food-bank-16/
END:VEVENT
BEGIN:VEVENT
DTSTART;TZID=UTC:20260304T180000
DTEND;TZID=UTC:20260304T193000
DTSTAMP:20260425T141618
CREATED:20260220T215750Z
LAST-MODIFIED:20260220T215750Z
UID:3522-1772647200-1772652600@firstbaptistchurchhulettwy.com
SUMMARY:Faithful Friends
DESCRIPTION:6th grade through 12th grade
URL:https://firstbaptistchurchhulettwy.com/event/faithful-friends-36/
END:VEVENT
BEGIN:VEVENT
DTSTART;TZID=UTC:20260304T160000
DTEND;TZID=UTC:20260304T173000
DTSTAMP:20260425T141618
CREATED:20260220T215042Z
LAST-MODIFIED:20260220T224328Z
UID:3514-1772640000-1772645400@firstbaptistchurchhulettwy.com
SUMMARY:CBRangers
DESCRIPTION:Ages 3 through 5th Grade
URL:https://firstbaptistchurchhulettwy.com/event/cbrangers-42/
END:VEVENT
END:VCALENDAR