BEGIN:VCALENDAR
VERSION:2.0
PRODID:-//First Baptist Church, Hulett Wyoming - ECPv6.15.20//NONSGML v1.0//EN
CALSCALE:GREGORIAN
METHOD:PUBLISH
X-ORIGINAL-URL:https://firstbaptistchurchhulettwy.com
X-WR-CALDESC:Events for First Baptist Church, Hulett Wyoming
REFRESH-INTERVAL;VALUE=DURATION:PT1H
X-Robots-Tag:noindex
X-PUBLISHED-TTL:PT1H
BEGIN:VTIMEZONE
TZID:UTC
BEGIN:STANDARD
TZOFFSETFROM:+0000
TZOFFSETTO:+0000
TZNAME:UTC
DTSTART:20250101T000000
END:STANDARD
END:VTIMEZONE
BEGIN:VEVENT
DTSTART;TZID=UTC:20260429T180000
DTEND;TZID=UTC:20260429T180000
DTSTAMP:20260425T153206
CREATED:20260411T040654Z
LAST-MODIFIED:20260411T041011Z
UID:3661-1777485600-1777485600@firstbaptistchurchhulettwy.com
SUMMARY:Faithful Friends
DESCRIPTION:
URL:https://firstbaptistchurchhulettwy.com/event/cbrangers-49/
END:VEVENT
END:VCALENDAR