BEGIN:VCALENDAR
VERSION:2.0
PRODID:-//First Baptist Church, Hulett Wyoming - ECPv6.15.20//NONSGML v1.0//EN
CALSCALE:GREGORIAN
METHOD:PUBLISH
X-ORIGINAL-URL:https://firstbaptistchurchhulettwy.com
X-WR-CALDESC:Events for First Baptist Church, Hulett Wyoming
REFRESH-INTERVAL;VALUE=DURATION:PT1H
X-Robots-Tag:noindex
X-PUBLISHED-TTL:PT1H
BEGIN:VTIMEZONE
TZID:UTC
BEGIN:STANDARD
TZOFFSETFROM:+0000
TZOFFSETTO:+0000
TZNAME:UTC
DTSTART:20250101T000000
END:STANDARD
END:VTIMEZONE
BEGIN:VEVENT
DTSTART;TZID=UTC:20260413T080000
DTEND;TZID=UTC:20260415T170000
DTSTAMP:20260425T152152
CREATED:20260411T034609Z
LAST-MODIFIED:20260411T034609Z
UID:3641-1776067200-1776272400@firstbaptistchurchhulettwy.com
SUMMARY:Northan Plains Fellowship\, Douglas
DESCRIPTION:Pastor gone to Douglas for pastor’s conference.  Contact Becky\, with any prayer requests etc…
URL:https://firstbaptistchurchhulettwy.com/event/northan-plains-fellowship-douglas/
END:VEVENT
END:VCALENDAR