BEGIN:VCALENDAR
VERSION:2.0
PRODID:-//First Baptist Church, Hulett Wyoming - ECPv6.15.20//NONSGML v1.0//EN
CALSCALE:GREGORIAN
METHOD:PUBLISH
X-WR-CALNAME:First Baptist Church, Hulett Wyoming
X-ORIGINAL-URL:https://firstbaptistchurchhulettwy.com
X-WR-CALDESC:Events for First Baptist Church, Hulett Wyoming
REFRESH-INTERVAL;VALUE=DURATION:PT1H
X-Robots-Tag:noindex
X-PUBLISHED-TTL:PT1H
BEGIN:VTIMEZONE
TZID:UTC
BEGIN:STANDARD
TZOFFSETFROM:+0000
TZOFFSETTO:+0000
TZNAME:UTC
DTSTART:20250101T000000
END:STANDARD
END:VTIMEZONE
BEGIN:VEVENT
DTSTART;TZID=UTC:20260401T180000
DTEND;TZID=UTC:20260401T210000
DTSTAMP:20260425T153112
CREATED:20260327T145813Z
LAST-MODIFIED:20260327T145813Z
UID:3619-1775066400-1775077200@firstbaptistchurchhulettwy.com
SUMMARY:Passover Seder Service
DESCRIPTION:Jewish Style Service And Meal 6:00pm
URL:https://firstbaptistchurchhulettwy.com/event/passover-seder-service-2/
END:VEVENT
END:VCALENDAR