BEGIN:VCALENDAR
VERSION:2.0
PRODID:-//First Baptist Church, Hulett Wyoming - ECPv6.15.20//NONSGML v1.0//EN
CALSCALE:GREGORIAN
METHOD:PUBLISH
X-ORIGINAL-URL:https://firstbaptistchurchhulettwy.com
X-WR-CALDESC:Events for First Baptist Church, Hulett Wyoming
REFRESH-INTERVAL;VALUE=DURATION:PT1H
X-Robots-Tag:noindex
X-PUBLISHED-TTL:PT1H
BEGIN:VTIMEZONE
TZID:UTC
BEGIN:STANDARD
TZOFFSETFROM:+0000
TZOFFSETTO:+0000
TZNAME:UTC
DTSTART:20250101T000000
END:STANDARD
END:VTIMEZONE
BEGIN:VEVENT
DTSTART;TZID=UTC:20260325T140000
DTEND;TZID=UTC:20260325T150000
DTSTAMP:20260425T170949
CREATED:20260220T220537Z
LAST-MODIFIED:20260220T220537Z
UID:3534-1774447200-1774450800@firstbaptistchurchhulettwy.com
SUMMARY:Women's Bible Study
DESCRIPTION:
URL:https://firstbaptistchurchhulettwy.com/event/womens-bible-study-30/
END:VEVENT
BEGIN:VEVENT
DTSTART;TZID=UTC:20260325T160000
DTEND;TZID=UTC:20260325T173000
DTSTAMP:20260425T170949
CREATED:20260220T215547Z
LAST-MODIFIED:20260220T215547Z
UID:3520-1774454400-1774459800@firstbaptistchurchhulettwy.com
SUMMARY:CBRangers
DESCRIPTION:Ages 3 to 5th grade
URL:https://firstbaptistchurchhulettwy.com/event/cbrangers-45/
END:VEVENT
BEGIN:VEVENT
DTSTART;TZID=UTC:20260325T180000
DTEND;TZID=UTC:20260325T193000
DTSTAMP:20260425T170949
CREATED:20260220T220206Z
LAST-MODIFIED:20260220T220206Z
UID:3528-1774461600-1774467000@firstbaptistchurchhulettwy.com
SUMMARY:Faithful Friends
DESCRIPTION:6th to 12th grade
URL:https://firstbaptistchurchhulettwy.com/event/faithful-friends-39/
END:VEVENT
END:VCALENDAR