BEGIN:VCALENDAR
VERSION:2.0
PRODID:-//First Baptist Church, Hulett Wyoming - ECPv6.15.20//NONSGML v1.0//EN
CALSCALE:GREGORIAN
METHOD:PUBLISH
X-WR-CALNAME:First Baptist Church, Hulett Wyoming
X-ORIGINAL-URL:https://firstbaptistchurchhulettwy.com
X-WR-CALDESC:Events for First Baptist Church, Hulett Wyoming
REFRESH-INTERVAL;VALUE=DURATION:PT1H
X-Robots-Tag:noindex
X-PUBLISHED-TTL:PT1H
BEGIN:VTIMEZONE
TZID:UTC
BEGIN:STANDARD
TZOFFSETFROM:+0000
TZOFFSETTO:+0000
TZNAME:UTC
DTSTART:20250101T000000
END:STANDARD
END:VTIMEZONE
BEGIN:VEVENT
DTSTART;TZID=UTC:20260221T110000
DTEND;TZID=UTC:20260221T160000
DTSTAMP:20260425T183641
CREATED:20260220T212811Z
LAST-MODIFIED:20260220T212811Z
UID:3490-1771671600-1771689600@firstbaptistchurchhulettwy.com
SUMMARY:Vertical Marriage\, Sessions 1 & 2
DESCRIPTION:Saturday Session at Oshoto Community Bible Church \nSession 1\, 11:00am. \nSoup Lunch\, bring a soup or side to share. \nSession 2 1:30pm.
URL:https://firstbaptistchurchhulettwy.com/event/vertical-marriage-sessions-1-2/
END:VEVENT
END:VCALENDAR