BEGIN:VCALENDAR
VERSION:2.0
PRODID:-//First Baptist Church, Hulett Wyoming - ECPv6.15.20//NONSGML v1.0//EN
CALSCALE:GREGORIAN
METHOD:PUBLISH
X-ORIGINAL-URL:https://firstbaptistchurchhulettwy.com
X-WR-CALDESC:Events for First Baptist Church, Hulett Wyoming
REFRESH-INTERVAL;VALUE=DURATION:PT1H
X-Robots-Tag:noindex
X-PUBLISHED-TTL:PT1H
BEGIN:VTIMEZONE
TZID:UTC
BEGIN:STANDARD
TZOFFSETFROM:+0000
TZOFFSETTO:+0000
TZNAME:UTC
DTSTART:20250101T000000
END:STANDARD
END:VTIMEZONE
BEGIN:VEVENT
DTSTART;TZID=UTC:20260220T080000
DTEND;TZID=UTC:20260220T170000
DTSTAMP:20260425T200502
CREATED:20260220T220919Z
LAST-MODIFIED:20260220T220919Z
UID:3538-1771574400-1771606800@firstbaptistchurchhulettwy.com
SUMMARY:Food Bank
DESCRIPTION:Pick up from 3:00 to 6:00pm
URL:https://firstbaptistchurchhulettwy.com/event/food-bank-17/
END:VEVENT
BEGIN:VEVENT
DTSTART;TZID=UTC:20260220T080000
DTEND;TZID=UTC:20260220T170000
DTSTAMP:20260425T200502
CREATED:20260220T221211Z
LAST-MODIFIED:20260220T221211Z
UID:3540-1771574400-1771606800@firstbaptistchurchhulettwy.com
SUMMARY:Dimes to Dollars
DESCRIPTION:Meet at FBC at 4:00pm
URL:https://firstbaptistchurchhulettwy.com/event/dimes-to-dollars/
END:VEVENT
END:VCALENDAR