BEGIN:VCALENDAR
VERSION:2.0
PRODID:-//First Baptist Church, Hulett Wyoming - ECPv6.15.20//NONSGML v1.0//EN
CALSCALE:GREGORIAN
METHOD:PUBLISH
X-WR-CALNAME:First Baptist Church, Hulett Wyoming
X-ORIGINAL-URL:https://firstbaptistchurchhulettwy.com
X-WR-CALDESC:Events for First Baptist Church, Hulett Wyoming
REFRESH-INTERVAL;VALUE=DURATION:PT1H
X-Robots-Tag:noindex
X-PUBLISHED-TTL:PT1H
BEGIN:VTIMEZONE
TZID:UTC
BEGIN:STANDARD
TZOFFSETFROM:+0000
TZOFFSETTO:+0000
TZNAME:UTC
DTSTART:20250101T000000
END:STANDARD
END:VTIMEZONE
BEGIN:VEVENT
DTSTART;TZID=UTC:20260218T140000
DTEND;TZID=UTC:20260218T150000
DTSTAMP:20260425T200352
CREATED:20260127T215854Z
LAST-MODIFIED:20260127T215854Z
UID:3409-1771423200-1771426800@firstbaptistchurchhulettwy.com
SUMMARY:Women's Bible Study
DESCRIPTION:
URL:https://firstbaptistchurchhulettwy.com/event/womens-bible-study-26/
END:VEVENT
BEGIN:VEVENT
DTSTART;TZID=UTC:20260218T160000
DTEND;TZID=UTC:20260218T173000
DTSTAMP:20260425T200352
CREATED:20260127T215952Z
LAST-MODIFIED:20260127T215952Z
UID:3411-1771430400-1771435800@firstbaptistchurchhulettwy.com
SUMMARY:CBRangers
DESCRIPTION:3years to 5th grade
URL:https://firstbaptistchurchhulettwy.com/event/cbrangers-41/
END:VEVENT
BEGIN:VEVENT
DTSTART;TZID=UTC:20260218T180000
DTEND;TZID=UTC:20260218T193000
DTSTAMP:20260425T200352
CREATED:20260127T220054Z
LAST-MODIFIED:20260127T220054Z
UID:3413-1771437600-1771443000@firstbaptistchurchhulettwy.com
SUMMARY:Faithful Friends
DESCRIPTION:6th grade through 12th grade
URL:https://firstbaptistchurchhulettwy.com/event/faithful-friends-34/
END:VEVENT
END:VCALENDAR