BEGIN:VCALENDAR
VERSION:2.0
PRODID:-//First Baptist Church, Hulett Wyoming - ECPv6.15.20//NONSGML v1.0//EN
CALSCALE:GREGORIAN
METHOD:PUBLISH
X-WR-CALNAME:First Baptist Church, Hulett Wyoming
X-ORIGINAL-URL:https://firstbaptistchurchhulettwy.com
X-WR-CALDESC:Events for First Baptist Church, Hulett Wyoming
REFRESH-INTERVAL;VALUE=DURATION:PT1H
X-Robots-Tag:noindex
X-PUBLISHED-TTL:PT1H
BEGIN:VTIMEZONE
TZID:UTC
BEGIN:STANDARD
TZOFFSETFROM:+0000
TZOFFSETTO:+0000
TZNAME:UTC
DTSTART:20250101T000000
END:STANDARD
END:VTIMEZONE
BEGIN:VEVENT
DTSTART;TZID=UTC:20260211T140000
DTEND;TZID=UTC:20260211T150000
DTSTAMP:20260425T183644
CREATED:20260127T214055Z
LAST-MODIFIED:20260127T214055Z
UID:3399-1770818400-1770822000@firstbaptistchurchhulettwy.com
SUMMARY:Women's Bible Study
DESCRIPTION:
URL:https://firstbaptistchurchhulettwy.com/event/womens-bible-study-25/
END:VEVENT
BEGIN:VEVENT
DTSTART;TZID=UTC:20260211T160000
DTEND;TZID=UTC:20260211T173000
DTSTAMP:20260425T183644
CREATED:20260127T214207Z
LAST-MODIFIED:20260127T214207Z
UID:3401-1770825600-1770831000@firstbaptistchurchhulettwy.com
SUMMARY:CBRangers
DESCRIPTION:Children 3 years to 5th grade
URL:https://firstbaptistchurchhulettwy.com/event/cbrangers-40/
END:VEVENT
BEGIN:VEVENT
DTSTART;TZID=UTC:20260211T180000
DTEND;TZID=UTC:20260211T193000
DTSTAMP:20260425T183644
CREATED:20260127T214305Z
LAST-MODIFIED:20260127T214305Z
UID:3403-1770832800-1770838200@firstbaptistchurchhulettwy.com
SUMMARY:Faithful Friends
DESCRIPTION:6th grade through 12th grade
URL:https://firstbaptistchurchhulettwy.com/event/faithful-friends-33/
END:VEVENT
END:VCALENDAR