BEGIN:VCALENDAR
VERSION:2.0
PRODID:-//First Baptist Church, Hulett Wyoming - ECPv6.15.20//NONSGML v1.0//EN
CALSCALE:GREGORIAN
METHOD:PUBLISH
X-WR-CALNAME:First Baptist Church, Hulett Wyoming
X-ORIGINAL-URL:https://firstbaptistchurchhulettwy.com
X-WR-CALDESC:Events for First Baptist Church, Hulett Wyoming
REFRESH-INTERVAL;VALUE=DURATION:PT1H
X-Robots-Tag:noindex
X-PUBLISHED-TTL:PT1H
BEGIN:VTIMEZONE
TZID:UTC
BEGIN:STANDARD
TZOFFSETFROM:+0000
TZOFFSETTO:+0000
TZNAME:UTC
DTSTART:20250101T000000
END:STANDARD
END:VTIMEZONE
BEGIN:VEVENT
DTSTART;TZID=UTC:20260208T123000
DTEND;TZID=UTC:20260208T140000
DTSTAMP:20260425T200247
CREATED:20260127T223521Z
LAST-MODIFIED:20260127T223521Z
UID:3423-1770553800-1770559200@firstbaptistchurchhulettwy.com
SUMMARY:The Art of Marriage
DESCRIPTION:Lesson 6 Following the morning service
URL:https://firstbaptistchurchhulettwy.com/event/the-art-of-marriage-5/
END:VEVENT
END:VCALENDAR