BEGIN:VCALENDAR
VERSION:2.0
PRODID:-//First Baptist Church, Hulett Wyoming - ECPv6.15.20//NONSGML v1.0//EN
CALSCALE:GREGORIAN
METHOD:PUBLISH
X-WR-CALNAME:First Baptist Church, Hulett Wyoming
X-ORIGINAL-URL:https://firstbaptistchurchhulettwy.com
X-WR-CALDESC:Events for First Baptist Church, Hulett Wyoming
REFRESH-INTERVAL;VALUE=DURATION:PT1H
X-Robots-Tag:noindex
X-PUBLISHED-TTL:PT1H
BEGIN:VTIMEZONE
TZID:UTC
BEGIN:STANDARD
TZOFFSETFROM:+0000
TZOFFSETTO:+0000
TZNAME:UTC
DTSTART:20250101T000000
END:STANDARD
END:VTIMEZONE
BEGIN:VEVENT
DTSTART;TZID=UTC:20260121T140000
DTEND;TZID=UTC:20260121T150000
DTSTAMP:20260425T200350
CREATED:20260103T030849Z
LAST-MODIFIED:20260103T030849Z
UID:3315-1769004000-1769007600@firstbaptistchurchhulettwy.com
SUMMARY:Women's Bible Study
DESCRIPTION:Uncovering God’s Word
URL:https://firstbaptistchurchhulettwy.com/event/womens-bible-study-22/
END:VEVENT
BEGIN:VEVENT
DTSTART;TZID=UTC:20260121T140000
DTEND;TZID=UTC:20260121T150000
DTSTAMP:20260425T200350
CREATED:20260111T162512Z
LAST-MODIFIED:20260111T162512Z
UID:3356-1769004000-1769007600@firstbaptistchurchhulettwy.com
SUMMARY:Womens Bible Study
DESCRIPTION:
URL:https://firstbaptistchurchhulettwy.com/event/womens-bible-study-23/
END:VEVENT
BEGIN:VEVENT
DTSTART;TZID=UTC:20260121T160000
DTEND;TZID=UTC:20260121T173000
DTSTAMP:20260425T200350
CREATED:20260103T031054Z
LAST-MODIFIED:20260103T031054Z
UID:3317-1769011200-1769016600@firstbaptistchurchhulettwy.com
SUMMARY:CBRangers
DESCRIPTION:
URL:https://firstbaptistchurchhulettwy.com/event/cbrangers-38/
END:VEVENT
BEGIN:VEVENT
DTSTART;TZID=UTC:20260121T180000
DTEND;TZID=UTC:20260121T193000
DTSTAMP:20260425T200350
CREATED:20260103T031207Z
LAST-MODIFIED:20260103T031207Z
UID:3319-1769018400-1769023800@firstbaptistchurchhulettwy.com
SUMMARY:Faithful Friends
DESCRIPTION:
URL:https://firstbaptistchurchhulettwy.com/event/faithful-friends-32/
END:VEVENT
END:VCALENDAR