BEGIN:VCALENDAR
VERSION:2.0
PRODID:-//First Baptist Church, Hulett Wyoming - ECPv6.15.20//NONSGML v1.0//EN
CALSCALE:GREGORIAN
METHOD:PUBLISH
X-ORIGINAL-URL:https://firstbaptistchurchhulettwy.com
X-WR-CALDESC:Events for First Baptist Church, Hulett Wyoming
REFRESH-INTERVAL;VALUE=DURATION:PT1H
X-Robots-Tag:noindex
X-PUBLISHED-TTL:PT1H
BEGIN:VTIMEZONE
TZID:UTC
BEGIN:STANDARD
TZOFFSETFROM:+0000
TZOFFSETTO:+0000
TZNAME:UTC
DTSTART:20250101T000000
END:STANDARD
END:VTIMEZONE
BEGIN:VEVENT
DTSTART;TZID=UTC:20260113T190000
DTEND;TZID=UTC:20260113T200000
DTSTAMP:20260425T200456
CREATED:20260103T025323Z
LAST-MODIFIED:20260103T025323Z
UID:3303-1768330800-1768334400@firstbaptistchurchhulettwy.com
SUMMARY:Men's Bible Study
DESCRIPTION:The Life of David.
URL:https://firstbaptistchurchhulettwy.com/event/mens-bible-study-42/
END:VEVENT
BEGIN:VEVENT
DTSTART;TZID=UTC:20260113T190000
DTEND;TZID=UTC:20260113T200000
DTSTAMP:20260425T200456
CREATED:20260111T162330Z
LAST-MODIFIED:20260111T162330Z
UID:3352-1768330800-1768334400@firstbaptistchurchhulettwy.com
SUMMARY:Mens Bible Study
DESCRIPTION:
URL:https://firstbaptistchurchhulettwy.com/event/mens-bible-study-44/
END:VEVENT
END:VCALENDAR