BEGIN:VCALENDAR
VERSION:2.0
PRODID:-//First Baptist Church, Hulett Wyoming - ECPv6.15.20//NONSGML v1.0//EN
CALSCALE:GREGORIAN
METHOD:PUBLISH
X-WR-CALNAME:First Baptist Church, Hulett Wyoming
X-ORIGINAL-URL:https://firstbaptistchurchhulettwy.com
X-WR-CALDESC:Events for First Baptist Church, Hulett Wyoming
REFRESH-INTERVAL;VALUE=DURATION:PT1H
X-Robots-Tag:noindex
X-PUBLISHED-TTL:PT1H
BEGIN:VTIMEZONE
TZID:UTC
BEGIN:STANDARD
TZOFFSETFROM:+0000
TZOFFSETTO:+0000
TZNAME:UTC
DTSTART:20240101T000000
END:STANDARD
END:VTIMEZONE
BEGIN:VEVENT
DTSTART;TZID=UTC:20251204T150000
DTEND;TZID=UTC:20251204T180000
DTSTAMP:20260425T214753
CREATED:20251129T222440Z
LAST-MODIFIED:20251129T222440Z
UID:3186-1764860400-1764871200@firstbaptistchurchhulettwy.com
SUMMARY:Hulett Food Bank
DESCRIPTION:Pick up from 3:00 to 6:00pm. Parsonage garage.
URL:https://firstbaptistchurchhulettwy.com/event/hulett-food-bank/
END:VEVENT
END:VCALENDAR