BEGIN:VCALENDAR
VERSION:2.0
PRODID:-//First Baptist Church, Hulett Wyoming - ECPv6.15.20//NONSGML v1.0//EN
CALSCALE:GREGORIAN
METHOD:PUBLISH
X-WR-CALNAME:First Baptist Church, Hulett Wyoming
X-ORIGINAL-URL:https://firstbaptistchurchhulettwy.com
X-WR-CALDESC:Events for First Baptist Church, Hulett Wyoming
REFRESH-INTERVAL;VALUE=DURATION:PT1H
X-Robots-Tag:noindex
X-PUBLISHED-TTL:PT1H
BEGIN:VTIMEZONE
TZID:UTC
BEGIN:STANDARD
TZOFFSETFROM:+0000
TZOFFSETTO:+0000
TZNAME:UTC
DTSTART:20240101T000000
END:STANDARD
END:VTIMEZONE
BEGIN:VEVENT
DTSTART;TZID=UTC:20251130T120000
DTEND;TZID=UTC:20251130T160000
DTSTAMP:20260425T232828
CREATED:20251030T213213Z
LAST-MODIFIED:20251120T142840Z
UID:3083-1764504000-1764518400@firstbaptistchurchhulettwy.com
SUMMARY:Pine Car Derby\, Lunch & Race
DESCRIPTION:Following the morning service.  Lunch with race to follow.
URL:https://firstbaptistchurchhulettwy.com/event/pine-car-derby-lunch-race/
END:VEVENT
END:VCALENDAR