BEGIN:VCALENDAR
VERSION:2.0
PRODID:-//First Baptist Church, Hulett Wyoming - ECPv6.15.20//NONSGML v1.0//EN
CALSCALE:GREGORIAN
METHOD:PUBLISH
X-ORIGINAL-URL:https://firstbaptistchurchhulettwy.com
X-WR-CALDESC:Events for First Baptist Church, Hulett Wyoming
REFRESH-INTERVAL;VALUE=DURATION:PT1H
X-Robots-Tag:noindex
X-PUBLISHED-TTL:PT1H
BEGIN:VTIMEZONE
TZID:UTC
BEGIN:STANDARD
TZOFFSETFROM:+0000
TZOFFSETTO:+0000
TZNAME:UTC
DTSTART:20240101T000000
END:STANDARD
END:VTIMEZONE
BEGIN:VEVENT
DTSTART;TZID=UTC:20251029T140000
DTEND;TZID=UTC:20251029T153000
DTSTAMP:20260425T232946
CREATED:20250928T013140Z
LAST-MODIFIED:20250928T013140Z
UID:2951-1761746400-1761751800@firstbaptistchurchhulettwy.com
SUMMARY:Ladies Bible Study
DESCRIPTION:
URL:https://firstbaptistchurchhulettwy.com/event/ladies-bible-study-17/
END:VEVENT
BEGIN:VEVENT
DTSTART;TZID=UTC:20251029T160000
DTEND;TZID=UTC:20251029T173000
DTSTAMP:20260425T232946
CREATED:20250928T013230Z
LAST-MODIFIED:20250928T013230Z
UID:2953-1761753600-1761759000@firstbaptistchurchhulettwy.com
SUMMARY:CBRangers
DESCRIPTION:
URL:https://firstbaptistchurchhulettwy.com/event/cbrangers-33/
END:VEVENT
BEGIN:VEVENT
DTSTART;TZID=UTC:20251029T180000
DTEND;TZID=UTC:20251029T193000
DTSTAMP:20260425T232946
CREATED:20250928T013350Z
LAST-MODIFIED:20250928T013350Z
UID:2955-1761760800-1761766200@firstbaptistchurchhulettwy.com
SUMMARY:Faithful Friends
DESCRIPTION:
URL:https://firstbaptistchurchhulettwy.com/event/faithful-friends-27/
END:VEVENT
END:VCALENDAR