BEGIN:VCALENDAR
VERSION:2.0
PRODID:-//First Baptist Church, Hulett Wyoming - ECPv6.15.20//NONSGML v1.0//EN
CALSCALE:GREGORIAN
METHOD:PUBLISH
X-ORIGINAL-URL:https://firstbaptistchurchhulettwy.com
X-WR-CALDESC:Events for First Baptist Church, Hulett Wyoming
REFRESH-INTERVAL;VALUE=DURATION:PT1H
X-Robots-Tag:noindex
X-PUBLISHED-TTL:PT1H
BEGIN:VTIMEZONE
TZID:UTC
BEGIN:STANDARD
TZOFFSETFROM:+0000
TZOFFSETTO:+0000
TZNAME:UTC
DTSTART:20240101T000000
END:STANDARD
END:VTIMEZONE
BEGIN:VEVENT
DTSTART;TZID=UTC:20251026T120000
DTEND;TZID=UTC:20251026T140000
DTSTAMP:20260426T010313
CREATED:20250928T012938Z
LAST-MODIFIED:20250928T012938Z
UID:2947-1761480000-1761487200@firstbaptistchurchhulettwy.com
SUMMARY:Church Business Meeting
DESCRIPTION:Fellowship lunch with meeting to follow.
URL:https://firstbaptistchurchhulettwy.com/event/church-business-meeting/
END:VEVENT
END:VCALENDAR