BEGIN:VCALENDAR
VERSION:2.0
PRODID:-//First Baptist Church, Hulett Wyoming - ECPv6.15.20//NONSGML v1.0//EN
CALSCALE:GREGORIAN
METHOD:PUBLISH
X-ORIGINAL-URL:https://firstbaptistchurchhulettwy.com
X-WR-CALDESC:Events for First Baptist Church, Hulett Wyoming
REFRESH-INTERVAL;VALUE=DURATION:PT1H
X-Robots-Tag:noindex
X-PUBLISHED-TTL:PT1H
BEGIN:VTIMEZONE
TZID:UTC
BEGIN:STANDARD
TZOFFSETFROM:+0000
TZOFFSETTO:+0000
TZNAME:UTC
DTSTART:20240101T000000
END:STANDARD
END:VTIMEZONE
BEGIN:VEVENT
DTSTART;TZID=UTC:20251022T140000
DTEND;TZID=UTC:20251022T153000
DTSTAMP:20260426T023021
CREATED:20250928T012630Z
LAST-MODIFIED:20250928T012630Z
UID:2941-1761141600-1761147000@firstbaptistchurchhulettwy.com
SUMMARY:Ladies Bible Study
DESCRIPTION:
URL:https://firstbaptistchurchhulettwy.com/event/ladies-bible-study-16/
END:VEVENT
BEGIN:VEVENT
DTSTART;TZID=UTC:20251022T160000
DTEND;TZID=UTC:20251022T173000
DTSTAMP:20260426T023021
CREATED:20250928T012727Z
LAST-MODIFIED:20250928T012727Z
UID:2943-1761148800-1761154200@firstbaptistchurchhulettwy.com
SUMMARY:CBRangers
DESCRIPTION:
URL:https://firstbaptistchurchhulettwy.com/event/cbrangers-32/
END:VEVENT
BEGIN:VEVENT
DTSTART;TZID=UTC:20251022T180000
DTEND;TZID=UTC:20251022T193000
DTSTAMP:20260426T023021
CREATED:20250928T012812Z
LAST-MODIFIED:20250928T012812Z
UID:2945-1761156000-1761161400@firstbaptistchurchhulettwy.com
SUMMARY:Faithful Friends
DESCRIPTION:
URL:https://firstbaptistchurchhulettwy.com/event/faithful-friends-26/
END:VEVENT
END:VCALENDAR