BEGIN:VCALENDAR
VERSION:2.0
PRODID:-//First Baptist Church, Hulett Wyoming - ECPv6.15.20//NONSGML v1.0//EN
CALSCALE:GREGORIAN
METHOD:PUBLISH
X-ORIGINAL-URL:https://firstbaptistchurchhulettwy.com
X-WR-CALDESC:Events for First Baptist Church, Hulett Wyoming
REFRESH-INTERVAL;VALUE=DURATION:PT1H
X-Robots-Tag:noindex
X-PUBLISHED-TTL:PT1H
BEGIN:VTIMEZONE
TZID:UTC
BEGIN:STANDARD
TZOFFSETFROM:+0000
TZOFFSETTO:+0000
TZNAME:UTC
DTSTART:20240101T000000
END:STANDARD
END:VTIMEZONE
BEGIN:VEVENT
DTSTART;TZID=UTC:20251019T120000
DTEND;TZID=UTC:20251019T143000
DTSTAMP:20260426T005904
CREATED:20250928T012415Z
LAST-MODIFIED:20250928T012415Z
UID:2937-1760875200-1760884200@firstbaptistchurchhulettwy.com
SUMMARY:The Art of Marriage
DESCRIPTION:Fellowship lunch and class following the morning service.
URL:https://firstbaptistchurchhulettwy.com/event/the-art-of-marriage/
END:VEVENT
END:VCALENDAR