BEGIN:VCALENDAR
VERSION:2.0
PRODID:-//First Baptist Church, Hulett Wyoming - ECPv6.15.20//NONSGML v1.0//EN
CALSCALE:GREGORIAN
METHOD:PUBLISH
X-ORIGINAL-URL:https://firstbaptistchurchhulettwy.com
X-WR-CALDESC:Events for First Baptist Church, Hulett Wyoming
REFRESH-INTERVAL;VALUE=DURATION:PT1H
X-Robots-Tag:noindex
X-PUBLISHED-TTL:PT1H
BEGIN:VTIMEZONE
TZID:UTC
BEGIN:STANDARD
TZOFFSETFROM:+0000
TZOFFSETTO:+0000
TZNAME:UTC
DTSTART:20240101T000000
END:STANDARD
END:VTIMEZONE
BEGIN:VEVENT
DTSTART;TZID=UTC:20251016T150000
DTEND;TZID=UTC:20251016T180000
DTSTAMP:20260426T010247
CREATED:20250928T001612Z
LAST-MODIFIED:20250928T001612Z
UID:2932-1760626800-1760637600@firstbaptistchurchhulettwy.com
SUMMARY:Food Bank
DESCRIPTION:
URL:https://firstbaptistchurchhulettwy.com/event/food-bank-12/
END:VEVENT
BEGIN:VEVENT
DTSTART;TZID=UTC:20251016T180000
DTEND;TZID=UTC:20251016T203000
DTSTAMP:20260426T010247
CREATED:20250928T001732Z
LAST-MODIFIED:20250928T001912Z
UID:2934-1760637600-1760646600@firstbaptistchurchhulettwy.com
SUMMARY:Bella Gala
DESCRIPTION:
URL:https://firstbaptistchurchhulettwy.com/event/bella-gala-2/
END:VEVENT
END:VCALENDAR