BEGIN:VCALENDAR
VERSION:2.0
PRODID:-//First Baptist Church, Hulett Wyoming - ECPv6.15.20//NONSGML v1.0//EN
CALSCALE:GREGORIAN
METHOD:PUBLISH
X-WR-CALNAME:First Baptist Church, Hulett Wyoming
X-ORIGINAL-URL:https://firstbaptistchurchhulettwy.com
X-WR-CALDESC:Events for First Baptist Church, Hulett Wyoming
REFRESH-INTERVAL;VALUE=DURATION:PT1H
X-Robots-Tag:noindex
X-PUBLISHED-TTL:PT1H
BEGIN:VTIMEZONE
TZID:UTC
BEGIN:STANDARD
TZOFFSETFROM:+0000
TZOFFSETTO:+0000
TZNAME:UTC
DTSTART:20240101T000000
END:STANDARD
END:VTIMEZONE
BEGIN:VEVENT
DTSTART;TZID=UTC:20251005T120000
DTEND;TZID=UTC:20251005T123000
DTSTAMP:20260426T010201
CREATED:20250928T000534Z
LAST-MODIFIED:20250928T000534Z
UID:2915-1759665600-1759667400@firstbaptistchurchhulettwy.com
SUMMARY:Deacon's Meeting
DESCRIPTION:Following the morning service
URL:https://firstbaptistchurchhulettwy.com/event/deacons-meeting-4/
END:VEVENT
BEGIN:VEVENT
DTSTART;TZID=UTC:20251005T120000
DTEND;TZID=UTC:20251005T140000
DTSTAMP:20260426T010201
CREATED:20250928T000426Z
LAST-MODIFIED:20250928T000426Z
UID:2913-1759665600-1759672800@firstbaptistchurchhulettwy.com
SUMMARY:Devils Tower Mission Society
DESCRIPTION:Following The Morning Service\, Fellowship and outreach to follow
URL:https://firstbaptistchurchhulettwy.com/event/devils-tower-mission-society-7/
END:VEVENT
END:VCALENDAR